BEGIN:VCALENDAR
VERSION:2.0
PRODID:-//Trying Together - ECPv6.15.20//NONSGML v1.0//EN
CALSCALE:GREGORIAN
METHOD:PUBLISH
X-WR-CALNAME:Trying Together
X-ORIGINAL-URL:https://tryingtogether.org
X-WR-CALDESC:Events for Trying Together
REFRESH-INTERVAL;VALUE=DURATION:PT1H
X-Robots-Tag:noindex
X-PUBLISHED-TTL:PT1H
BEGIN:VTIMEZONE
TZID:America/New_York
BEGIN:DAYLIGHT
TZOFFSETFROM:-0500
TZOFFSETTO:-0400
TZNAME:EDT
DTSTART:20230312T070000
END:DAYLIGHT
BEGIN:STANDARD
TZOFFSETFROM:-0400
TZOFFSETTO:-0500
TZNAME:EST
DTSTART:20231105T060000
END:STANDARD
BEGIN:DAYLIGHT
TZOFFSETFROM:-0500
TZOFFSETTO:-0400
TZNAME:EDT
DTSTART:20240310T070000
END:DAYLIGHT
BEGIN:STANDARD
TZOFFSETFROM:-0400
TZOFFSETTO:-0500
TZNAME:EST
DTSTART:20241103T060000
END:STANDARD
BEGIN:DAYLIGHT
TZOFFSETFROM:-0500
TZOFFSETTO:-0400
TZNAME:EDT
DTSTART:20250309T070000
END:DAYLIGHT
BEGIN:STANDARD
TZOFFSETFROM:-0400
TZOFFSETTO:-0500
TZNAME:EST
DTSTART:20251102T060000
END:STANDARD
END:VTIMEZONE
BEGIN:VEVENT
DTSTART;TZID=America/New_York:20240306T130000
DTEND;TZID=America/New_York:20240306T150000
DTSTAMP:20260420T140430
CREATED:20240207T142459Z
LAST-MODIFIED:20240207T142459Z
UID:10013429-1709730000-1709737200@tryingtogether.org
SUMMARY:2024 Summer Planning Bootcamp
DESCRIPTION:Explore Unique Summer Potential with a Summer Planning Bootcamp from the National Summer Learning Association! \nSummer isn’t just a season; it’s a canvas of opportunity for youth to explore\, learn\, play\, dream\, move\, create\, and connect. All children deserve access to an enriching summer experience that supports their personal and academic development. Let’s create unique opportunities for students that will continue to impact their growth beyond the summertime! \nJoin the National Summer Learning Association on March 6-7  for a free virtual Summer Planning Bootcamp to get ready for a fun and productive summer. The two-day webinar series is designed to equip you with tools\, ideas\, and best practices to elevate your summer program planning game. Guided by dynamic experts and leaders\, day 1 will focus on policy and research\, student well-being\, and using summer to promote youth voice\, nature\, community service\, college prep\, and career exposure. On day 2\, we will shift towards academic support\, creative enrichment activities\, and partnerships to support and reach more youth. \nEvent Details\n\nWednesday\, 03/06 | 1 – 3 p.m.\n\nPanel 1: Summer Learning Landscape\nPanel 2: Supporting Thriving Youth with Mental and Physical Well-being\nPanel 3: Summer Time for Exploration & Innovation\n\n\nThursday\, 03/07 | 1 – 3 p.m.\n\nPanel 4: Elevating Summer Learning\nPanel 5: Summer of Curiosity and Creativity\nPanel 6: Powerful Partnerships for Summer\n\n\nRegister today!
URL:https://tryingtogether.org/event/2024-summer-planning-bootcamp/2024-03-06/
CATEGORIES:Course
ATTACH;FMTTYPE=image/jpeg:https://tryingtogether.org/wp-content/uploads/2024/02/230916-DayofPlay-BF-15-scaled.jpg
END:VEVENT
BEGIN:VEVENT
DTSTART;TZID=America/New_York:20240307T130000
DTEND;TZID=America/New_York:20240307T150000
DTSTAMP:20260420T140430
CREATED:20240207T142459Z
LAST-MODIFIED:20240207T142459Z
UID:10013430-1709816400-1709823600@tryingtogether.org
SUMMARY:2024 Summer Planning Bootcamp
DESCRIPTION:Explore Unique Summer Potential with a Summer Planning Bootcamp from the National Summer Learning Association! \nSummer isn’t just a season; it’s a canvas of opportunity for youth to explore\, learn\, play\, dream\, move\, create\, and connect. All children deserve access to an enriching summer experience that supports their personal and academic development. Let’s create unique opportunities for students that will continue to impact their growth beyond the summertime! \nJoin the National Summer Learning Association on March 6-7  for a free virtual Summer Planning Bootcamp to get ready for a fun and productive summer. The two-day webinar series is designed to equip you with tools\, ideas\, and best practices to elevate your summer program planning game. Guided by dynamic experts and leaders\, day 1 will focus on policy and research\, student well-being\, and using summer to promote youth voice\, nature\, community service\, college prep\, and career exposure. On day 2\, we will shift towards academic support\, creative enrichment activities\, and partnerships to support and reach more youth. \nEvent Details\n\nWednesday\, 03/06 | 1 – 3 p.m.\n\nPanel 1: Summer Learning Landscape\nPanel 2: Supporting Thriving Youth with Mental and Physical Well-being\nPanel 3: Summer Time for Exploration & Innovation\n\n\nThursday\, 03/07 | 1 – 3 p.m.\n\nPanel 4: Elevating Summer Learning\nPanel 5: Summer of Curiosity and Creativity\nPanel 6: Powerful Partnerships for Summer\n\n\nRegister today!
URL:https://tryingtogether.org/event/2024-summer-planning-bootcamp/2024-03-07/
CATEGORIES:Course
ATTACH;FMTTYPE=image/jpeg:https://tryingtogether.org/wp-content/uploads/2024/02/230916-DayofPlay-BF-15-scaled.jpg
END:VEVENT
BEGIN:VEVENT
DTSTART;TZID=America/New_York:20240307T130000
DTEND;TZID=America/New_York:20240307T160000
DTSTAMP:20260420T140430
CREATED:20240201T161950Z
LAST-MODIFIED:20240201T162104Z
UID:10011618-1709816400-1709827200@tryingtogether.org
SUMMARY:Supporting Children's Social-Emotional Wellbeing: A Closer Look at Temperament and Goodness of Fit Theory
DESCRIPTION:Do you ever wonder how two children with the same parents can be so different? About why some children are so easygoing and others are more challenging? One major factor at play is temperament. Temperament is an important feature of children’s social-emotional well-being and describes how they approach the world. \nIn “Supporting Children’s Social-Emotional Wellbeing: A Closer Look at Temperament and Goodness of Fit Theory\,” participants will explore different temperament traits and learn how the goodness of fit theory supports children’s social and emotional well-being. \nHosted by Trying Together and ELRC Region 5\, this course\, while available for all STAR programs\, meets the STAR 3/4 PD topic requirements in PSCECE Area 4. \nSession Details\n\nThursday\, March 7 | 1 – 4 p.m.\nTrying Together\, 5604 Solway Street\, Pittsburgh\, PA 15217\nCost: $15\nRegister\nInstructors: Katie Streiff and Jillian Miller\nStandards: PSCECE Area 4: Developmentally\, Culturally\, and Linguistically Appropriate Teaching Practices (3 hours)\n\nLearn More\nFor questions about the course or credit\, contact Paige Kizior at paige@tryingtogether.org.
URL:https://tryingtogether.org/event/supporting-childrens-social-emotional-wellbeing-2/
CATEGORIES:Course
ATTACH;FMTTYPE=image/jpeg:https://tryingtogether.org/wp-content/uploads/2024/02/IMG_2861-scaled.jpg
END:VEVENT
END:VCALENDAR