BEGIN:VCALENDAR
VERSION:2.0
PRODID:-//Trying Together - ECPv6.15.20//NONSGML v1.0//EN
CALSCALE:GREGORIAN
METHOD:PUBLISH
X-ORIGINAL-URL:https://tryingtogether.org
X-WR-CALDESC:Events for Trying Together
REFRESH-INTERVAL;VALUE=DURATION:PT1H
X-Robots-Tag:noindex
X-PUBLISHED-TTL:PT1H
BEGIN:VTIMEZONE
TZID:America/New_York
BEGIN:DAYLIGHT
TZOFFSETFROM:-0500
TZOFFSETTO:-0400
TZNAME:EDT
DTSTART:20250309T070000
END:DAYLIGHT
BEGIN:STANDARD
TZOFFSETFROM:-0400
TZOFFSETTO:-0500
TZNAME:EST
DTSTART:20251102T060000
END:STANDARD
BEGIN:DAYLIGHT
TZOFFSETFROM:-0500
TZOFFSETTO:-0400
TZNAME:EDT
DTSTART:20260308T070000
END:DAYLIGHT
BEGIN:STANDARD
TZOFFSETFROM:-0400
TZOFFSETTO:-0500
TZNAME:EST
DTSTART:20261101T060000
END:STANDARD
BEGIN:DAYLIGHT
TZOFFSETFROM:-0500
TZOFFSETTO:-0400
TZNAME:EDT
DTSTART:20270314T070000
END:DAYLIGHT
BEGIN:STANDARD
TZOFFSETFROM:-0400
TZOFFSETTO:-0500
TZNAME:EST
DTSTART:20271107T060000
END:STANDARD
END:VTIMEZONE
BEGIN:VEVENT
DTSTART;TZID=America/New_York:20260421T103000
DTEND;TZID=America/New_York:20260421T111500
DTSTAMP:20260421T091438
CREATED:20250708T162626Z
LAST-MODIFIED:20250716T145959Z
UID:10013803-1776767400-1776770100@tryingtogether.org
SUMMARY:Story Time at the Hub
DESCRIPTION:Story time at the Hub! is an interactive story time geared toward children birth to five years of age and their families! \nStory time runs from 10:30 a.m. to 11:15 a.m. on Tuesdays.
URL:https://tryingtogether.org/event/story-time-at-the-hub/2026-04-21/
CATEGORIES:The Homewood Early Learning Hub & Family Center
ATTACH;FMTTYPE=image/jpeg:https://tryingtogether.org/wp-content/uploads/2025/04/Trying-Together-1.jpg
END:VEVENT
BEGIN:VEVENT
DTSTART;TZID=America/New_York:20260422T100000
DTEND;TZID=America/New_York:20260422T104500
DTSTAMP:20260421T091438
CREATED:20250708T163017Z
LAST-MODIFIED:20250716T145807Z
UID:10013860-1776852000-1776854700@tryingtogether.org
SUMMARY:Tummy Time
DESCRIPTION:Tummy Time provides caregivers and pre-walking infants an opportunity to socialize in a safe and welcoming setting. \nTummy Time runs from 10 a.m. to 10:45 a.m. on Wednesdays at the Homewood Early Learning Hub and Family Center. \n 
URL:https://tryingtogether.org/event/tummy-time-2/2026-04-22/
CATEGORIES:The Homewood Early Learning Hub & Family Center
ATTACH;FMTTYPE=image/jpeg:https://tryingtogether.org/wp-content/uploads/2025/04/Trying-Together-2.jpg
END:VEVENT
BEGIN:VEVENT
DTSTART;TZID=America/New_York:20260422T110000
DTEND;TZID=America/New_York:20260422T130000
DTSTAMP:20260421T091438
CREATED:20250708T163411Z
LAST-MODIFIED:20250716T145425Z
UID:10013917-1776855600-1776862800@tryingtogether.org
SUMMARY:Drop-In Playtime
DESCRIPTION:Drop-in play hours offer a fun and safe space for children to grow\, learn\, and play while building social skills. Caregivers must stay with their children. The Homewood Early Learning Hub & Family Center staff are available for support. \nDrop-in Playtime runs from 11 a.m. to 1 p.m. on Wednesdays.
URL:https://tryingtogether.org/event/drop-in-playtime/2026-04-22/
CATEGORIES:The Homewood Early Learning Hub & Family Center
ATTACH;FMTTYPE=image/jpeg:https://tryingtogether.org/wp-content/uploads/2025/04/Trying-Together-19.jpg
END:VEVENT
BEGIN:VEVENT
DTSTART;TZID=America/New_York:20260424T180000
DTEND;TZID=America/New_York:20260424T193000
DTSTAMP:20260421T091438
CREATED:20260413T151634Z
LAST-MODIFIED:20260413T151634Z
UID:10014095-1777053600-1777059000@tryingtogether.org
SUMMARY:Rise Together
DESCRIPTION:Need a family fun Friday night? Join families at The Homewood Early Learning Hub & Family Center for a night of fun-filled games and activities. \nParents and caregivers can explore ways to interact with their children to promote growth through play. This event is for enrolled families only. \nFor more information\, contact Nicole Banner at nicole@tryingtogether.org.
URL:https://tryingtogether.org/event/rise-together/2026-04-24/
CATEGORIES:The Homewood Early Learning Hub & Family Center
ATTACH;FMTTYPE=image/png:https://tryingtogether.org/wp-content/uploads/2019/09/Rise-Together.png
END:VEVENT
BEGIN:VEVENT
DTSTART;TZID=America/New_York:20260428T103000
DTEND;TZID=America/New_York:20260428T111500
DTSTAMP:20260421T091438
CREATED:20250708T162626Z
LAST-MODIFIED:20250716T145959Z
UID:10013804-1777372200-1777374900@tryingtogether.org
SUMMARY:Story Time at the Hub
DESCRIPTION:Story time at the Hub! is an interactive story time geared toward children birth to five years of age and their families! \nStory time runs from 10:30 a.m. to 11:15 a.m. on Tuesdays.
URL:https://tryingtogether.org/event/story-time-at-the-hub/2026-04-28/
CATEGORIES:The Homewood Early Learning Hub & Family Center
ATTACH;FMTTYPE=image/jpeg:https://tryingtogether.org/wp-content/uploads/2025/04/Trying-Together-1.jpg
END:VEVENT
BEGIN:VEVENT
DTSTART;TZID=America/New_York:20260429T100000
DTEND;TZID=America/New_York:20260429T104500
DTSTAMP:20260421T091438
CREATED:20250708T163017Z
LAST-MODIFIED:20250716T145807Z
UID:10013861-1777456800-1777459500@tryingtogether.org
SUMMARY:Tummy Time
DESCRIPTION:Tummy Time provides caregivers and pre-walking infants an opportunity to socialize in a safe and welcoming setting. \nTummy Time runs from 10 a.m. to 10:45 a.m. on Wednesdays at the Homewood Early Learning Hub and Family Center. \n 
URL:https://tryingtogether.org/event/tummy-time-2/2026-04-29/
CATEGORIES:The Homewood Early Learning Hub & Family Center
ATTACH;FMTTYPE=image/jpeg:https://tryingtogether.org/wp-content/uploads/2025/04/Trying-Together-2.jpg
END:VEVENT
BEGIN:VEVENT
DTSTART;TZID=America/New_York:20260429T110000
DTEND;TZID=America/New_York:20260429T130000
DTSTAMP:20260421T091438
CREATED:20250708T163411Z
LAST-MODIFIED:20250716T145425Z
UID:10013918-1777460400-1777467600@tryingtogether.org
SUMMARY:Drop-In Playtime
DESCRIPTION:Drop-in play hours offer a fun and safe space for children to grow\, learn\, and play while building social skills. Caregivers must stay with their children. The Homewood Early Learning Hub & Family Center staff are available for support. \nDrop-in Playtime runs from 11 a.m. to 1 p.m. on Wednesdays.
URL:https://tryingtogether.org/event/drop-in-playtime/2026-04-29/
CATEGORIES:The Homewood Early Learning Hub & Family Center
ATTACH;FMTTYPE=image/jpeg:https://tryingtogether.org/wp-content/uploads/2025/04/Trying-Together-19.jpg
END:VEVENT
BEGIN:VEVENT
DTSTART;TZID=America/New_York:20260505T103000
DTEND;TZID=America/New_York:20260505T111500
DTSTAMP:20260421T091438
CREATED:20250708T162626Z
LAST-MODIFIED:20250716T145959Z
UID:10013805-1777977000-1777979700@tryingtogether.org
SUMMARY:Story Time at the Hub
DESCRIPTION:Story time at the Hub! is an interactive story time geared toward children birth to five years of age and their families! \nStory time runs from 10:30 a.m. to 11:15 a.m. on Tuesdays.
URL:https://tryingtogether.org/event/story-time-at-the-hub/2026-05-05/
CATEGORIES:The Homewood Early Learning Hub & Family Center
ATTACH;FMTTYPE=image/jpeg:https://tryingtogether.org/wp-content/uploads/2025/04/Trying-Together-1.jpg
END:VEVENT
BEGIN:VEVENT
DTSTART;TZID=America/New_York:20260506T100000
DTEND;TZID=America/New_York:20260506T104500
DTSTAMP:20260421T091438
CREATED:20250708T163017Z
LAST-MODIFIED:20250716T145807Z
UID:10013862-1778061600-1778064300@tryingtogether.org
SUMMARY:Tummy Time
DESCRIPTION:Tummy Time provides caregivers and pre-walking infants an opportunity to socialize in a safe and welcoming setting. \nTummy Time runs from 10 a.m. to 10:45 a.m. on Wednesdays at the Homewood Early Learning Hub and Family Center. \n 
URL:https://tryingtogether.org/event/tummy-time-2/2026-05-06/
CATEGORIES:The Homewood Early Learning Hub & Family Center
ATTACH;FMTTYPE=image/jpeg:https://tryingtogether.org/wp-content/uploads/2025/04/Trying-Together-2.jpg
END:VEVENT
BEGIN:VEVENT
DTSTART;TZID=America/New_York:20260506T110000
DTEND;TZID=America/New_York:20260506T130000
DTSTAMP:20260421T091438
CREATED:20250708T163411Z
LAST-MODIFIED:20250716T145425Z
UID:10013919-1778065200-1778072400@tryingtogether.org
SUMMARY:Drop-In Playtime
DESCRIPTION:Drop-in play hours offer a fun and safe space for children to grow\, learn\, and play while building social skills. Caregivers must stay with their children. The Homewood Early Learning Hub & Family Center staff are available for support. \nDrop-in Playtime runs from 11 a.m. to 1 p.m. on Wednesdays.
URL:https://tryingtogether.org/event/drop-in-playtime/2026-05-06/
CATEGORIES:The Homewood Early Learning Hub & Family Center
ATTACH;FMTTYPE=image/jpeg:https://tryingtogether.org/wp-content/uploads/2025/04/Trying-Together-19.jpg
END:VEVENT
BEGIN:VEVENT
DTSTART;TZID=America/New_York:20260512T103000
DTEND;TZID=America/New_York:20260512T111500
DTSTAMP:20260421T091438
CREATED:20250708T162626Z
LAST-MODIFIED:20250716T145959Z
UID:10013806-1778581800-1778584500@tryingtogether.org
SUMMARY:Story Time at the Hub
DESCRIPTION:Story time at the Hub! is an interactive story time geared toward children birth to five years of age and their families! \nStory time runs from 10:30 a.m. to 11:15 a.m. on Tuesdays.
URL:https://tryingtogether.org/event/story-time-at-the-hub/2026-05-12/
CATEGORIES:The Homewood Early Learning Hub & Family Center
ATTACH;FMTTYPE=image/jpeg:https://tryingtogether.org/wp-content/uploads/2025/04/Trying-Together-1.jpg
END:VEVENT
BEGIN:VEVENT
DTSTART;TZID=America/New_York:20260513T100000
DTEND;TZID=America/New_York:20260513T104500
DTSTAMP:20260421T091438
CREATED:20250708T163017Z
LAST-MODIFIED:20250716T145807Z
UID:10013863-1778666400-1778669100@tryingtogether.org
SUMMARY:Tummy Time
DESCRIPTION:Tummy Time provides caregivers and pre-walking infants an opportunity to socialize in a safe and welcoming setting. \nTummy Time runs from 10 a.m. to 10:45 a.m. on Wednesdays at the Homewood Early Learning Hub and Family Center. \n 
URL:https://tryingtogether.org/event/tummy-time-2/2026-05-13/
CATEGORIES:The Homewood Early Learning Hub & Family Center
ATTACH;FMTTYPE=image/jpeg:https://tryingtogether.org/wp-content/uploads/2025/04/Trying-Together-2.jpg
END:VEVENT
BEGIN:VEVENT
DTSTART;TZID=America/New_York:20260513T110000
DTEND;TZID=America/New_York:20260513T130000
DTSTAMP:20260421T091438
CREATED:20250708T163411Z
LAST-MODIFIED:20250716T145425Z
UID:10013920-1778670000-1778677200@tryingtogether.org
SUMMARY:Drop-In Playtime
DESCRIPTION:Drop-in play hours offer a fun and safe space for children to grow\, learn\, and play while building social skills. Caregivers must stay with their children. The Homewood Early Learning Hub & Family Center staff are available for support. \nDrop-in Playtime runs from 11 a.m. to 1 p.m. on Wednesdays.
URL:https://tryingtogether.org/event/drop-in-playtime/2026-05-13/
CATEGORIES:The Homewood Early Learning Hub & Family Center
ATTACH;FMTTYPE=image/jpeg:https://tryingtogether.org/wp-content/uploads/2025/04/Trying-Together-19.jpg
END:VEVENT
BEGIN:VEVENT
DTSTART;TZID=America/New_York:20260519T103000
DTEND;TZID=America/New_York:20260519T111500
DTSTAMP:20260421T091438
CREATED:20250708T162626Z
LAST-MODIFIED:20250716T145959Z
UID:10013807-1779186600-1779189300@tryingtogether.org
SUMMARY:Story Time at the Hub
DESCRIPTION:Story time at the Hub! is an interactive story time geared toward children birth to five years of age and their families! \nStory time runs from 10:30 a.m. to 11:15 a.m. on Tuesdays.
URL:https://tryingtogether.org/event/story-time-at-the-hub/2026-05-19/
CATEGORIES:The Homewood Early Learning Hub & Family Center
ATTACH;FMTTYPE=image/jpeg:https://tryingtogether.org/wp-content/uploads/2025/04/Trying-Together-1.jpg
END:VEVENT
BEGIN:VEVENT
DTSTART;TZID=America/New_York:20260520T100000
DTEND;TZID=America/New_York:20260520T104500
DTSTAMP:20260421T091438
CREATED:20250708T163017Z
LAST-MODIFIED:20250716T145807Z
UID:10013864-1779271200-1779273900@tryingtogether.org
SUMMARY:Tummy Time
DESCRIPTION:Tummy Time provides caregivers and pre-walking infants an opportunity to socialize in a safe and welcoming setting. \nTummy Time runs from 10 a.m. to 10:45 a.m. on Wednesdays at the Homewood Early Learning Hub and Family Center. \n 
URL:https://tryingtogether.org/event/tummy-time-2/2026-05-20/
CATEGORIES:The Homewood Early Learning Hub & Family Center
ATTACH;FMTTYPE=image/jpeg:https://tryingtogether.org/wp-content/uploads/2025/04/Trying-Together-2.jpg
END:VEVENT
BEGIN:VEVENT
DTSTART;TZID=America/New_York:20260520T110000
DTEND;TZID=America/New_York:20260520T130000
DTSTAMP:20260421T091438
CREATED:20250708T163411Z
LAST-MODIFIED:20250716T145425Z
UID:10013921-1779274800-1779282000@tryingtogether.org
SUMMARY:Drop-In Playtime
DESCRIPTION:Drop-in play hours offer a fun and safe space for children to grow\, learn\, and play while building social skills. Caregivers must stay with their children. The Homewood Early Learning Hub & Family Center staff are available for support. \nDrop-in Playtime runs from 11 a.m. to 1 p.m. on Wednesdays.
URL:https://tryingtogether.org/event/drop-in-playtime/2026-05-20/
CATEGORIES:The Homewood Early Learning Hub & Family Center
ATTACH;FMTTYPE=image/jpeg:https://tryingtogether.org/wp-content/uploads/2025/04/Trying-Together-19.jpg
END:VEVENT
BEGIN:VEVENT
DTSTART;TZID=America/New_York:20260522T180000
DTEND;TZID=America/New_York:20260522T193000
DTSTAMP:20260421T091438
CREATED:20260413T151634Z
LAST-MODIFIED:20260413T151634Z
UID:10014096-1779472800-1779478200@tryingtogether.org
SUMMARY:Rise Together
DESCRIPTION:Need a family fun Friday night? Join families at The Homewood Early Learning Hub & Family Center for a night of fun-filled games and activities. \nParents and caregivers can explore ways to interact with their children to promote growth through play. This event is for enrolled families only. \nFor more information\, contact Nicole Banner at nicole@tryingtogether.org.
URL:https://tryingtogether.org/event/rise-together/2026-05-22/
CATEGORIES:The Homewood Early Learning Hub & Family Center
ATTACH;FMTTYPE=image/png:https://tryingtogether.org/wp-content/uploads/2019/09/Rise-Together.png
END:VEVENT
BEGIN:VEVENT
DTSTART;TZID=America/New_York:20260526T103000
DTEND;TZID=America/New_York:20260526T111500
DTSTAMP:20260421T091438
CREATED:20250708T162626Z
LAST-MODIFIED:20250716T145959Z
UID:10013808-1779791400-1779794100@tryingtogether.org
SUMMARY:Story Time at the Hub
DESCRIPTION:Story time at the Hub! is an interactive story time geared toward children birth to five years of age and their families! \nStory time runs from 10:30 a.m. to 11:15 a.m. on Tuesdays.
URL:https://tryingtogether.org/event/story-time-at-the-hub/2026-05-26/
CATEGORIES:The Homewood Early Learning Hub & Family Center
ATTACH;FMTTYPE=image/jpeg:https://tryingtogether.org/wp-content/uploads/2025/04/Trying-Together-1.jpg
END:VEVENT
BEGIN:VEVENT
DTSTART;TZID=America/New_York:20260527T100000
DTEND;TZID=America/New_York:20260527T104500
DTSTAMP:20260421T091438
CREATED:20250708T163017Z
LAST-MODIFIED:20250716T145807Z
UID:10013865-1779876000-1779878700@tryingtogether.org
SUMMARY:Tummy Time
DESCRIPTION:Tummy Time provides caregivers and pre-walking infants an opportunity to socialize in a safe and welcoming setting. \nTummy Time runs from 10 a.m. to 10:45 a.m. on Wednesdays at the Homewood Early Learning Hub and Family Center. \n 
URL:https://tryingtogether.org/event/tummy-time-2/2026-05-27/
CATEGORIES:The Homewood Early Learning Hub & Family Center
ATTACH;FMTTYPE=image/jpeg:https://tryingtogether.org/wp-content/uploads/2025/04/Trying-Together-2.jpg
END:VEVENT
BEGIN:VEVENT
DTSTART;TZID=America/New_York:20260527T110000
DTEND;TZID=America/New_York:20260527T130000
DTSTAMP:20260421T091438
CREATED:20250708T163411Z
LAST-MODIFIED:20250716T145425Z
UID:10013922-1779879600-1779886800@tryingtogether.org
SUMMARY:Drop-In Playtime
DESCRIPTION:Drop-in play hours offer a fun and safe space for children to grow\, learn\, and play while building social skills. Caregivers must stay with their children. The Homewood Early Learning Hub & Family Center staff are available for support. \nDrop-in Playtime runs from 11 a.m. to 1 p.m. on Wednesdays.
URL:https://tryingtogether.org/event/drop-in-playtime/2026-05-27/
CATEGORIES:The Homewood Early Learning Hub & Family Center
ATTACH;FMTTYPE=image/jpeg:https://tryingtogether.org/wp-content/uploads/2025/04/Trying-Together-19.jpg
END:VEVENT
BEGIN:VEVENT
DTSTART;TZID=America/New_York:20260602T103000
DTEND;TZID=America/New_York:20260602T111500
DTSTAMP:20260421T091438
CREATED:20250708T162626Z
LAST-MODIFIED:20250716T145959Z
UID:10013809-1780396200-1780398900@tryingtogether.org
SUMMARY:Story Time at the Hub
DESCRIPTION:Story time at the Hub! is an interactive story time geared toward children birth to five years of age and their families! \nStory time runs from 10:30 a.m. to 11:15 a.m. on Tuesdays.
URL:https://tryingtogether.org/event/story-time-at-the-hub/2026-06-02/
CATEGORIES:The Homewood Early Learning Hub & Family Center
ATTACH;FMTTYPE=image/jpeg:https://tryingtogether.org/wp-content/uploads/2025/04/Trying-Together-1.jpg
END:VEVENT
BEGIN:VEVENT
DTSTART;TZID=America/New_York:20260603T100000
DTEND;TZID=America/New_York:20260603T104500
DTSTAMP:20260421T091438
CREATED:20250708T163017Z
LAST-MODIFIED:20250716T145807Z
UID:10013866-1780480800-1780483500@tryingtogether.org
SUMMARY:Tummy Time
DESCRIPTION:Tummy Time provides caregivers and pre-walking infants an opportunity to socialize in a safe and welcoming setting. \nTummy Time runs from 10 a.m. to 10:45 a.m. on Wednesdays at the Homewood Early Learning Hub and Family Center. \n 
URL:https://tryingtogether.org/event/tummy-time-2/2026-06-03/
CATEGORIES:The Homewood Early Learning Hub & Family Center
ATTACH;FMTTYPE=image/jpeg:https://tryingtogether.org/wp-content/uploads/2025/04/Trying-Together-2.jpg
END:VEVENT
BEGIN:VEVENT
DTSTART;TZID=America/New_York:20260603T110000
DTEND;TZID=America/New_York:20260603T130000
DTSTAMP:20260421T091438
CREATED:20250708T163411Z
LAST-MODIFIED:20250716T145425Z
UID:10013923-1780484400-1780491600@tryingtogether.org
SUMMARY:Drop-In Playtime
DESCRIPTION:Drop-in play hours offer a fun and safe space for children to grow\, learn\, and play while building social skills. Caregivers must stay with their children. The Homewood Early Learning Hub & Family Center staff are available for support. \nDrop-in Playtime runs from 11 a.m. to 1 p.m. on Wednesdays.
URL:https://tryingtogether.org/event/drop-in-playtime/2026-06-03/
CATEGORIES:The Homewood Early Learning Hub & Family Center
ATTACH;FMTTYPE=image/jpeg:https://tryingtogether.org/wp-content/uploads/2025/04/Trying-Together-19.jpg
END:VEVENT
BEGIN:VEVENT
DTSTART;TZID=America/New_York:20260609T103000
DTEND;TZID=America/New_York:20260609T111500
DTSTAMP:20260421T091438
CREATED:20250708T162626Z
LAST-MODIFIED:20250716T145959Z
UID:10013810-1781001000-1781003700@tryingtogether.org
SUMMARY:Story Time at the Hub
DESCRIPTION:Story time at the Hub! is an interactive story time geared toward children birth to five years of age and their families! \nStory time runs from 10:30 a.m. to 11:15 a.m. on Tuesdays.
URL:https://tryingtogether.org/event/story-time-at-the-hub/2026-06-09/
CATEGORIES:The Homewood Early Learning Hub & Family Center
ATTACH;FMTTYPE=image/jpeg:https://tryingtogether.org/wp-content/uploads/2025/04/Trying-Together-1.jpg
END:VEVENT
BEGIN:VEVENT
DTSTART;TZID=America/New_York:20260610T100000
DTEND;TZID=America/New_York:20260610T104500
DTSTAMP:20260421T091438
CREATED:20250708T163017Z
LAST-MODIFIED:20250716T145807Z
UID:10013867-1781085600-1781088300@tryingtogether.org
SUMMARY:Tummy Time
DESCRIPTION:Tummy Time provides caregivers and pre-walking infants an opportunity to socialize in a safe and welcoming setting. \nTummy Time runs from 10 a.m. to 10:45 a.m. on Wednesdays at the Homewood Early Learning Hub and Family Center. \n 
URL:https://tryingtogether.org/event/tummy-time-2/2026-06-10/
CATEGORIES:The Homewood Early Learning Hub & Family Center
ATTACH;FMTTYPE=image/jpeg:https://tryingtogether.org/wp-content/uploads/2025/04/Trying-Together-2.jpg
END:VEVENT
BEGIN:VEVENT
DTSTART;TZID=America/New_York:20260610T110000
DTEND;TZID=America/New_York:20260610T130000
DTSTAMP:20260421T091438
CREATED:20250708T163411Z
LAST-MODIFIED:20250716T145425Z
UID:10013924-1781089200-1781096400@tryingtogether.org
SUMMARY:Drop-In Playtime
DESCRIPTION:Drop-in play hours offer a fun and safe space for children to grow\, learn\, and play while building social skills. Caregivers must stay with their children. The Homewood Early Learning Hub & Family Center staff are available for support. \nDrop-in Playtime runs from 11 a.m. to 1 p.m. on Wednesdays.
URL:https://tryingtogether.org/event/drop-in-playtime/2026-06-10/
CATEGORIES:The Homewood Early Learning Hub & Family Center
ATTACH;FMTTYPE=image/jpeg:https://tryingtogether.org/wp-content/uploads/2025/04/Trying-Together-19.jpg
END:VEVENT
BEGIN:VEVENT
DTSTART;TZID=America/New_York:20260616T103000
DTEND;TZID=America/New_York:20260616T111500
DTSTAMP:20260421T091438
CREATED:20250708T162626Z
LAST-MODIFIED:20250716T145959Z
UID:10013811-1781605800-1781608500@tryingtogether.org
SUMMARY:Story Time at the Hub
DESCRIPTION:Story time at the Hub! is an interactive story time geared toward children birth to five years of age and their families! \nStory time runs from 10:30 a.m. to 11:15 a.m. on Tuesdays.
URL:https://tryingtogether.org/event/story-time-at-the-hub/2026-06-16/
CATEGORIES:The Homewood Early Learning Hub & Family Center
ATTACH;FMTTYPE=image/jpeg:https://tryingtogether.org/wp-content/uploads/2025/04/Trying-Together-1.jpg
END:VEVENT
BEGIN:VEVENT
DTSTART;TZID=America/New_York:20260617T100000
DTEND;TZID=America/New_York:20260617T104500
DTSTAMP:20260421T091438
CREATED:20250708T163017Z
LAST-MODIFIED:20250716T145807Z
UID:10013868-1781690400-1781693100@tryingtogether.org
SUMMARY:Tummy Time
DESCRIPTION:Tummy Time provides caregivers and pre-walking infants an opportunity to socialize in a safe and welcoming setting. \nTummy Time runs from 10 a.m. to 10:45 a.m. on Wednesdays at the Homewood Early Learning Hub and Family Center. \n 
URL:https://tryingtogether.org/event/tummy-time-2/2026-06-17/
CATEGORIES:The Homewood Early Learning Hub & Family Center
ATTACH;FMTTYPE=image/jpeg:https://tryingtogether.org/wp-content/uploads/2025/04/Trying-Together-2.jpg
END:VEVENT
BEGIN:VEVENT
DTSTART;TZID=America/New_York:20260617T110000
DTEND;TZID=America/New_York:20260617T130000
DTSTAMP:20260421T091438
CREATED:20250708T163411Z
LAST-MODIFIED:20250716T145425Z
UID:10013925-1781694000-1781701200@tryingtogether.org
SUMMARY:Drop-In Playtime
DESCRIPTION:Drop-in play hours offer a fun and safe space for children to grow\, learn\, and play while building social skills. Caregivers must stay with their children. The Homewood Early Learning Hub & Family Center staff are available for support. \nDrop-in Playtime runs from 11 a.m. to 1 p.m. on Wednesdays.
URL:https://tryingtogether.org/event/drop-in-playtime/2026-06-17/
CATEGORIES:The Homewood Early Learning Hub & Family Center
ATTACH;FMTTYPE=image/jpeg:https://tryingtogether.org/wp-content/uploads/2025/04/Trying-Together-19.jpg
END:VEVENT
BEGIN:VEVENT
DTSTART;TZID=America/New_York:20260623T103000
DTEND;TZID=America/New_York:20260623T111500
DTSTAMP:20260421T091438
CREATED:20250708T162626Z
LAST-MODIFIED:20250716T145959Z
UID:10013812-1782210600-1782213300@tryingtogether.org
SUMMARY:Story Time at the Hub
DESCRIPTION:Story time at the Hub! is an interactive story time geared toward children birth to five years of age and their families! \nStory time runs from 10:30 a.m. to 11:15 a.m. on Tuesdays.
URL:https://tryingtogether.org/event/story-time-at-the-hub/2026-06-23/
CATEGORIES:The Homewood Early Learning Hub & Family Center
ATTACH;FMTTYPE=image/jpeg:https://tryingtogether.org/wp-content/uploads/2025/04/Trying-Together-1.jpg
END:VEVENT
END:VCALENDAR