BEGIN:VCALENDAR
VERSION:2.0
PRODID:-//Trying Together - ECPv6.15.20//NONSGML v1.0//EN
CALSCALE:GREGORIAN
METHOD:PUBLISH
X-ORIGINAL-URL:https://tryingtogether.org
X-WR-CALDESC:Events for Trying Together
REFRESH-INTERVAL;VALUE=DURATION:PT1H
X-Robots-Tag:noindex
X-PUBLISHED-TTL:PT1H
BEGIN:VTIMEZONE
TZID:America/New_York
BEGIN:DAYLIGHT
TZOFFSETFROM:-0500
TZOFFSETTO:-0400
TZNAME:EDT
DTSTART:20250309T070000
END:DAYLIGHT
BEGIN:STANDARD
TZOFFSETFROM:-0400
TZOFFSETTO:-0500
TZNAME:EST
DTSTART:20251102T060000
END:STANDARD
BEGIN:DAYLIGHT
TZOFFSETFROM:-0500
TZOFFSETTO:-0400
TZNAME:EDT
DTSTART:20260308T070000
END:DAYLIGHT
BEGIN:STANDARD
TZOFFSETFROM:-0400
TZOFFSETTO:-0500
TZNAME:EST
DTSTART:20261101T060000
END:STANDARD
BEGIN:DAYLIGHT
TZOFFSETFROM:-0500
TZOFFSETTO:-0400
TZNAME:EDT
DTSTART:20270314T070000
END:DAYLIGHT
BEGIN:STANDARD
TZOFFSETFROM:-0400
TZOFFSETTO:-0500
TZNAME:EST
DTSTART:20271107T060000
END:STANDARD
END:VTIMEZONE
BEGIN:VEVENT
DTSTART;TZID=America/New_York:20260421T103000
DTEND;TZID=America/New_York:20260421T111500
DTSTAMP:20260425T113811
CREATED:20250708T162626Z
LAST-MODIFIED:20250716T145959Z
UID:10013803-1776767400-1776770100@tryingtogether.org
SUMMARY:Story Time at the Hub
DESCRIPTION:Story time at the Hub! is an interactive story time geared toward children birth to five years of age and their families! \nStory time runs from 10:30 a.m. to 11:15 a.m. on Tuesdays.
URL:https://tryingtogether.org/event/story-time-at-the-hub/2026-04-21/
CATEGORIES:The Homewood Early Learning Hub & Family Center
ATTACH;FMTTYPE=image/jpeg:https://tryingtogether.org/wp-content/uploads/2025/04/Trying-Together-1.jpg
END:VEVENT
BEGIN:VEVENT
DTSTART;TZID=America/New_York:20260422T100000
DTEND;TZID=America/New_York:20260422T104500
DTSTAMP:20260425T113811
CREATED:20250708T163017Z
LAST-MODIFIED:20250716T145807Z
UID:10013860-1776852000-1776854700@tryingtogether.org
SUMMARY:Tummy Time
DESCRIPTION:Tummy Time provides caregivers and pre-walking infants an opportunity to socialize in a safe and welcoming setting. \nTummy Time runs from 10 a.m. to 10:45 a.m. on Wednesdays at the Homewood Early Learning Hub and Family Center. \n 
URL:https://tryingtogether.org/event/tummy-time-2/2026-04-22/
CATEGORIES:The Homewood Early Learning Hub & Family Center
ATTACH;FMTTYPE=image/jpeg:https://tryingtogether.org/wp-content/uploads/2025/04/Trying-Together-2.jpg
END:VEVENT
BEGIN:VEVENT
DTSTART;TZID=America/New_York:20260422T110000
DTEND;TZID=America/New_York:20260422T130000
DTSTAMP:20260425T113811
CREATED:20250708T163411Z
LAST-MODIFIED:20250716T145425Z
UID:10013917-1776855600-1776862800@tryingtogether.org
SUMMARY:Drop-In Playtime
DESCRIPTION:Drop-in play hours offer a fun and safe space for children to grow\, learn\, and play while building social skills. Caregivers must stay with their children. The Homewood Early Learning Hub & Family Center staff are available for support. \nDrop-in Playtime runs from 11 a.m. to 1 p.m. on Wednesdays.
URL:https://tryingtogether.org/event/drop-in-playtime/2026-04-22/
CATEGORIES:The Homewood Early Learning Hub & Family Center
ATTACH;FMTTYPE=image/jpeg:https://tryingtogether.org/wp-content/uploads/2025/04/Trying-Together-19.jpg
END:VEVENT
BEGIN:VEVENT
DTSTART;TZID=America/New_York:20260424T180000
DTEND;TZID=America/New_York:20260424T193000
DTSTAMP:20260425T113811
CREATED:20260413T151634Z
LAST-MODIFIED:20260413T151634Z
UID:10014095-1777053600-1777059000@tryingtogether.org
SUMMARY:Rise Together
DESCRIPTION:Need a family fun Friday night? Join families at The Homewood Early Learning Hub & Family Center for a night of fun-filled games and activities. \nParents and caregivers can explore ways to interact with their children to promote growth through play. This event is for enrolled families only. \nFor more information\, contact Nicole Banner at nicole@tryingtogether.org.
URL:https://tryingtogether.org/event/rise-together/2026-04-24/
CATEGORIES:The Homewood Early Learning Hub & Family Center
ATTACH;FMTTYPE=image/png:https://tryingtogether.org/wp-content/uploads/2019/09/Rise-Together.png
END:VEVENT
END:VCALENDAR