BEGIN:VCALENDAR
VERSION:2.0
PRODID:-//Trying Together - ECPv6.15.20//NONSGML v1.0//EN
CALSCALE:GREGORIAN
METHOD:PUBLISH
X-ORIGINAL-URL:https://tryingtogether.org
X-WR-CALDESC:Events for Trying Together
REFRESH-INTERVAL;VALUE=DURATION:PT1H
X-Robots-Tag:noindex
X-PUBLISHED-TTL:PT1H
BEGIN:VTIMEZONE
TZID:America/New_York
BEGIN:DAYLIGHT
TZOFFSETFROM:-0500
TZOFFSETTO:-0400
TZNAME:EDT
DTSTART:20250309T070000
END:DAYLIGHT
BEGIN:STANDARD
TZOFFSETFROM:-0400
TZOFFSETTO:-0500
TZNAME:EST
DTSTART:20251102T060000
END:STANDARD
BEGIN:DAYLIGHT
TZOFFSETFROM:-0500
TZOFFSETTO:-0400
TZNAME:EDT
DTSTART:20260308T070000
END:DAYLIGHT
BEGIN:STANDARD
TZOFFSETFROM:-0400
TZOFFSETTO:-0500
TZNAME:EST
DTSTART:20261101T060000
END:STANDARD
BEGIN:DAYLIGHT
TZOFFSETFROM:-0500
TZOFFSETTO:-0400
TZNAME:EDT
DTSTART:20270314T070000
END:DAYLIGHT
BEGIN:STANDARD
TZOFFSETFROM:-0400
TZOFFSETTO:-0500
TZNAME:EST
DTSTART:20271107T060000
END:STANDARD
BEGIN:DAYLIGHT
TZOFFSETFROM:-0500
TZOFFSETTO:-0400
TZNAME:EDT
DTSTART:20280312T070000
END:DAYLIGHT
BEGIN:STANDARD
TZOFFSETFROM:-0400
TZOFFSETTO:-0500
TZNAME:EST
DTSTART:20281105T060000
END:STANDARD
BEGIN:DAYLIGHT
TZOFFSETFROM:-0500
TZOFFSETTO:-0400
TZNAME:EDT
DTSTART:20290311T070000
END:DAYLIGHT
BEGIN:STANDARD
TZOFFSETFROM:-0400
TZOFFSETTO:-0500
TZNAME:EST
DTSTART:20291104T060000
END:STANDARD
END:VTIMEZONE
BEGIN:VEVENT
DTSTART;TZID=America/New_York:20260722T110000
DTEND;TZID=America/New_York:20260722T130000
DTSTAMP:20260420T144401
CREATED:20250708T163411Z
LAST-MODIFIED:20250716T145425Z
UID:10013930-1784718000-1784725200@tryingtogether.org
SUMMARY:Drop-In Playtime
DESCRIPTION:Drop-in play hours offer a fun and safe space for children to grow\, learn\, and play while building social skills. Caregivers must stay with their children. The Homewood Early Learning Hub & Family Center staff are available for support. \nDrop-in Playtime runs from 11 a.m. to 1 p.m. on Wednesdays.
URL:https://tryingtogether.org/event/drop-in-playtime/2026-07-22/
CATEGORIES:The Homewood Early Learning Hub & Family Center
ATTACH;FMTTYPE=image/jpeg:https://tryingtogether.org/wp-content/uploads/2025/04/Trying-Together-19.jpg
END:VEVENT
BEGIN:VEVENT
DTSTART;TZID=America/New_York:20260724T180000
DTEND;TZID=America/New_York:20260724T193000
DTSTAMP:20260420T144401
CREATED:20260413T151634Z
LAST-MODIFIED:20260413T151634Z
UID:10014098-1784916000-1784921400@tryingtogether.org
SUMMARY:Rise Together
DESCRIPTION:Need a family fun Friday night? Join families at The Homewood Early Learning Hub & Family Center for a night of fun-filled games and activities. \nParents and caregivers can explore ways to interact with their children to promote growth through play. This event is for enrolled families only. \nFor more information\, contact Nicole Banner at nicole@tryingtogether.org.
URL:https://tryingtogether.org/event/rise-together/2026-07-24/
CATEGORIES:The Homewood Early Learning Hub & Family Center
ATTACH;FMTTYPE=image/png:https://tryingtogether.org/wp-content/uploads/2019/09/Rise-Together.png
END:VEVENT
BEGIN:VEVENT
DTSTART;TZID=America/New_York:20260728T103000
DTEND;TZID=America/New_York:20260728T111500
DTSTAMP:20260420T144401
CREATED:20250708T162626Z
LAST-MODIFIED:20250716T145959Z
UID:10013817-1785234600-1785237300@tryingtogether.org
SUMMARY:Story Time at the Hub
DESCRIPTION:Story time at the Hub! is an interactive story time geared toward children birth to five years of age and their families! \nStory time runs from 10:30 a.m. to 11:15 a.m. on Tuesdays.
URL:https://tryingtogether.org/event/story-time-at-the-hub/2026-07-28/
CATEGORIES:The Homewood Early Learning Hub & Family Center
ATTACH;FMTTYPE=image/jpeg:https://tryingtogether.org/wp-content/uploads/2025/04/Trying-Together-1.jpg
END:VEVENT
BEGIN:VEVENT
DTSTART;TZID=America/New_York:20260729T100000
DTEND;TZID=America/New_York:20260729T104500
DTSTAMP:20260420T144401
CREATED:20250708T163017Z
LAST-MODIFIED:20250716T145807Z
UID:10013874-1785319200-1785321900@tryingtogether.org
SUMMARY:Tummy Time
DESCRIPTION:Tummy Time provides caregivers and pre-walking infants an opportunity to socialize in a safe and welcoming setting. \nTummy Time runs from 10 a.m. to 10:45 a.m. on Wednesdays at the Homewood Early Learning Hub and Family Center. \n 
URL:https://tryingtogether.org/event/tummy-time-2/2026-07-29/
CATEGORIES:The Homewood Early Learning Hub & Family Center
ATTACH;FMTTYPE=image/jpeg:https://tryingtogether.org/wp-content/uploads/2025/04/Trying-Together-2.jpg
END:VEVENT
BEGIN:VEVENT
DTSTART;TZID=America/New_York:20260729T110000
DTEND;TZID=America/New_York:20260729T130000
DTSTAMP:20260420T144401
CREATED:20250708T163411Z
LAST-MODIFIED:20250716T145425Z
UID:10013931-1785322800-1785330000@tryingtogether.org
SUMMARY:Drop-In Playtime
DESCRIPTION:Drop-in play hours offer a fun and safe space for children to grow\, learn\, and play while building social skills. Caregivers must stay with their children. The Homewood Early Learning Hub & Family Center staff are available for support. \nDrop-in Playtime runs from 11 a.m. to 1 p.m. on Wednesdays.
URL:https://tryingtogether.org/event/drop-in-playtime/2026-07-29/
CATEGORIES:The Homewood Early Learning Hub & Family Center
ATTACH;FMTTYPE=image/jpeg:https://tryingtogether.org/wp-content/uploads/2025/04/Trying-Together-19.jpg
END:VEVENT
BEGIN:VEVENT
DTSTART;TZID=America/New_York:20260804T103000
DTEND;TZID=America/New_York:20260804T111500
DTSTAMP:20260420T144401
CREATED:20250708T162626Z
LAST-MODIFIED:20250716T145959Z
UID:10013818-1785839400-1785842100@tryingtogether.org
SUMMARY:Story Time at the Hub
DESCRIPTION:Story time at the Hub! is an interactive story time geared toward children birth to five years of age and their families! \nStory time runs from 10:30 a.m. to 11:15 a.m. on Tuesdays.
URL:https://tryingtogether.org/event/story-time-at-the-hub/2026-08-04/
CATEGORIES:The Homewood Early Learning Hub & Family Center
ATTACH;FMTTYPE=image/jpeg:https://tryingtogether.org/wp-content/uploads/2025/04/Trying-Together-1.jpg
END:VEVENT
BEGIN:VEVENT
DTSTART;TZID=America/New_York:20260805T100000
DTEND;TZID=America/New_York:20260805T104500
DTSTAMP:20260420T144401
CREATED:20250708T163017Z
LAST-MODIFIED:20250716T145807Z
UID:10013875-1785924000-1785926700@tryingtogether.org
SUMMARY:Tummy Time
DESCRIPTION:Tummy Time provides caregivers and pre-walking infants an opportunity to socialize in a safe and welcoming setting. \nTummy Time runs from 10 a.m. to 10:45 a.m. on Wednesdays at the Homewood Early Learning Hub and Family Center. \n 
URL:https://tryingtogether.org/event/tummy-time-2/2026-08-05/
CATEGORIES:The Homewood Early Learning Hub & Family Center
ATTACH;FMTTYPE=image/jpeg:https://tryingtogether.org/wp-content/uploads/2025/04/Trying-Together-2.jpg
END:VEVENT
BEGIN:VEVENT
DTSTART;TZID=America/New_York:20260805T110000
DTEND;TZID=America/New_York:20260805T130000
DTSTAMP:20260420T144401
CREATED:20250708T163411Z
LAST-MODIFIED:20250716T145425Z
UID:10013932-1785927600-1785934800@tryingtogether.org
SUMMARY:Drop-In Playtime
DESCRIPTION:Drop-in play hours offer a fun and safe space for children to grow\, learn\, and play while building social skills. Caregivers must stay with their children. The Homewood Early Learning Hub & Family Center staff are available for support. \nDrop-in Playtime runs from 11 a.m. to 1 p.m. on Wednesdays.
URL:https://tryingtogether.org/event/drop-in-playtime/2026-08-05/
CATEGORIES:The Homewood Early Learning Hub & Family Center
ATTACH;FMTTYPE=image/jpeg:https://tryingtogether.org/wp-content/uploads/2025/04/Trying-Together-19.jpg
END:VEVENT
BEGIN:VEVENT
DTSTART;TZID=America/New_York:20260808T140000
DTEND;TZID=America/New_York:20260808T220000
DTSTAMP:20260420T144401
CREATED:20260323T191834Z
LAST-MODIFIED:20260323T191834Z
UID:10012494-1786197600-1786226400@tryingtogether.org
SUMMARY:North Fayette Community Days
DESCRIPTION:The North Fayette Township Community Days will offer a variety of activities for families in Donaldson Park\, providing space for food vendors\, businesses\, and organizations. \nChildren will be able to enjoy inflatables\, pony rides\, a petting zoo\, and games. Community Days events start in the afternoon and continue with a full entertainment schedule throughout the day. The night closes with a fireworks display. \nThe event runs from 2 p.m. to 10 p.m. on August 8 at Donaldson Park. \n 
URL:https://tryingtogether.org/event/north-fayette-community-days/
ATTACH;FMTTYPE=image/jpeg:https://tryingtogether.org/wp-content/uploads/2026/03/child_play_21_2025-TT.jpg
END:VEVENT
BEGIN:VEVENT
DTSTART;TZID=America/New_York:20260828T180000
DTEND;TZID=America/New_York:20260828T193000
DTSTAMP:20260420T144401
CREATED:20260413T151634Z
LAST-MODIFIED:20260413T151634Z
UID:10014099-1787940000-1787945400@tryingtogether.org
SUMMARY:Rise Together
DESCRIPTION:Need a family fun Friday night? Join families at The Homewood Early Learning Hub & Family Center for a night of fun-filled games and activities. \nParents and caregivers can explore ways to interact with their children to promote growth through play. This event is for enrolled families only. \nFor more information\, contact Nicole Banner at nicole@tryingtogether.org.
URL:https://tryingtogether.org/event/rise-together/2026-08-28/
CATEGORIES:The Homewood Early Learning Hub & Family Center
ATTACH;FMTTYPE=image/png:https://tryingtogether.org/wp-content/uploads/2019/09/Rise-Together.png
END:VEVENT
BEGIN:VEVENT
DTSTART;TZID=America/New_York:20260925T180000
DTEND;TZID=America/New_York:20260925T193000
DTSTAMP:20260420T144401
CREATED:20260413T151634Z
LAST-MODIFIED:20260413T151634Z
UID:10014100-1790359200-1790364600@tryingtogether.org
SUMMARY:Rise Together
DESCRIPTION:Need a family fun Friday night? Join families at The Homewood Early Learning Hub & Family Center for a night of fun-filled games and activities. \nParents and caregivers can explore ways to interact with their children to promote growth through play. This event is for enrolled families only. \nFor more information\, contact Nicole Banner at nicole@tryingtogether.org.
URL:https://tryingtogether.org/event/rise-together/2026-09-25/
CATEGORIES:The Homewood Early Learning Hub & Family Center
ATTACH;FMTTYPE=image/png:https://tryingtogether.org/wp-content/uploads/2019/09/Rise-Together.png
END:VEVENT
BEGIN:VEVENT
DTSTART;TZID=America/New_York:20261023T180000
DTEND;TZID=America/New_York:20261023T193000
DTSTAMP:20260420T144401
CREATED:20260413T151634Z
LAST-MODIFIED:20260413T151634Z
UID:10014101-1792778400-1792783800@tryingtogether.org
SUMMARY:Rise Together
DESCRIPTION:Need a family fun Friday night? Join families at The Homewood Early Learning Hub & Family Center for a night of fun-filled games and activities. \nParents and caregivers can explore ways to interact with their children to promote growth through play. This event is for enrolled families only. \nFor more information\, contact Nicole Banner at nicole@tryingtogether.org.
URL:https://tryingtogether.org/event/rise-together/2026-10-23/
CATEGORIES:The Homewood Early Learning Hub & Family Center
ATTACH;FMTTYPE=image/png:https://tryingtogether.org/wp-content/uploads/2019/09/Rise-Together.png
END:VEVENT
BEGIN:VEVENT
DTSTART;TZID=America/New_York:20261127T180000
DTEND;TZID=America/New_York:20261127T193000
DTSTAMP:20260420T144401
CREATED:20260413T151634Z
LAST-MODIFIED:20260413T151634Z
UID:10014102-1795802400-1795807800@tryingtogether.org
SUMMARY:Rise Together
DESCRIPTION:Need a family fun Friday night? Join families at The Homewood Early Learning Hub & Family Center for a night of fun-filled games and activities. \nParents and caregivers can explore ways to interact with their children to promote growth through play. This event is for enrolled families only. \nFor more information\, contact Nicole Banner at nicole@tryingtogether.org.
URL:https://tryingtogether.org/event/rise-together/2026-11-27/
CATEGORIES:The Homewood Early Learning Hub & Family Center
ATTACH;FMTTYPE=image/png:https://tryingtogether.org/wp-content/uploads/2019/09/Rise-Together.png
END:VEVENT
BEGIN:VEVENT
DTSTART;TZID=America/New_York:20261225T180000
DTEND;TZID=America/New_York:20261225T193000
DTSTAMP:20260420T144401
CREATED:20260413T151634Z
LAST-MODIFIED:20260413T151634Z
UID:10014103-1798221600-1798227000@tryingtogether.org
SUMMARY:Rise Together
DESCRIPTION:Need a family fun Friday night? Join families at The Homewood Early Learning Hub & Family Center for a night of fun-filled games and activities. \nParents and caregivers can explore ways to interact with their children to promote growth through play. This event is for enrolled families only. \nFor more information\, contact Nicole Banner at nicole@tryingtogether.org.
URL:https://tryingtogether.org/event/rise-together/2026-12-25/
CATEGORIES:The Homewood Early Learning Hub & Family Center
ATTACH;FMTTYPE=image/png:https://tryingtogether.org/wp-content/uploads/2019/09/Rise-Together.png
END:VEVENT
BEGIN:VEVENT
DTSTART;TZID=America/New_York:20270122T180000
DTEND;TZID=America/New_York:20270122T193000
DTSTAMP:20260420T144401
CREATED:20260413T151634Z
LAST-MODIFIED:20260413T151634Z
UID:10014104-1800640800-1800646200@tryingtogether.org
SUMMARY:Rise Together
DESCRIPTION:Need a family fun Friday night? Join families at The Homewood Early Learning Hub & Family Center for a night of fun-filled games and activities. \nParents and caregivers can explore ways to interact with their children to promote growth through play. This event is for enrolled families only. \nFor more information\, contact Nicole Banner at nicole@tryingtogether.org.
URL:https://tryingtogether.org/event/rise-together/2027-01-22/
CATEGORIES:The Homewood Early Learning Hub & Family Center
ATTACH;FMTTYPE=image/png:https://tryingtogether.org/wp-content/uploads/2019/09/Rise-Together.png
END:VEVENT
BEGIN:VEVENT
DTSTART;TZID=America/New_York:20270226T180000
DTEND;TZID=America/New_York:20270226T193000
DTSTAMP:20260420T144401
CREATED:20260413T151634Z
LAST-MODIFIED:20260413T151634Z
UID:10014105-1803664800-1803670200@tryingtogether.org
SUMMARY:Rise Together
DESCRIPTION:Need a family fun Friday night? Join families at The Homewood Early Learning Hub & Family Center for a night of fun-filled games and activities. \nParents and caregivers can explore ways to interact with their children to promote growth through play. This event is for enrolled families only. \nFor more information\, contact Nicole Banner at nicole@tryingtogether.org.
URL:https://tryingtogether.org/event/rise-together/2027-02-26/
CATEGORIES:The Homewood Early Learning Hub & Family Center
ATTACH;FMTTYPE=image/png:https://tryingtogether.org/wp-content/uploads/2019/09/Rise-Together.png
END:VEVENT
BEGIN:VEVENT
DTSTART;TZID=America/New_York:20270326T180000
DTEND;TZID=America/New_York:20270326T193000
DTSTAMP:20260420T144401
CREATED:20260413T151634Z
LAST-MODIFIED:20260413T151634Z
UID:10014106-1806084000-1806089400@tryingtogether.org
SUMMARY:Rise Together
DESCRIPTION:Need a family fun Friday night? Join families at The Homewood Early Learning Hub & Family Center for a night of fun-filled games and activities. \nParents and caregivers can explore ways to interact with their children to promote growth through play. This event is for enrolled families only. \nFor more information\, contact Nicole Banner at nicole@tryingtogether.org.
URL:https://tryingtogether.org/event/rise-together/2027-03-26/
CATEGORIES:The Homewood Early Learning Hub & Family Center
ATTACH;FMTTYPE=image/png:https://tryingtogether.org/wp-content/uploads/2019/09/Rise-Together.png
END:VEVENT
BEGIN:VEVENT
DTSTART;TZID=America/New_York:20270423T180000
DTEND;TZID=America/New_York:20270423T193000
DTSTAMP:20260420T144401
CREATED:20260413T151634Z
LAST-MODIFIED:20260413T151634Z
UID:10014107-1808503200-1808508600@tryingtogether.org
SUMMARY:Rise Together
DESCRIPTION:Need a family fun Friday night? Join families at The Homewood Early Learning Hub & Family Center for a night of fun-filled games and activities. \nParents and caregivers can explore ways to interact with their children to promote growth through play. This event is for enrolled families only. \nFor more information\, contact Nicole Banner at nicole@tryingtogether.org.
URL:https://tryingtogether.org/event/rise-together/2027-04-23/
CATEGORIES:The Homewood Early Learning Hub & Family Center
ATTACH;FMTTYPE=image/png:https://tryingtogether.org/wp-content/uploads/2019/09/Rise-Together.png
END:VEVENT
BEGIN:VEVENT
DTSTART;TZID=America/New_York:20270528T180000
DTEND;TZID=America/New_York:20270528T193000
DTSTAMP:20260420T144401
CREATED:20260413T151634Z
LAST-MODIFIED:20260413T151634Z
UID:10014108-1811527200-1811532600@tryingtogether.org
SUMMARY:Rise Together
DESCRIPTION:Need a family fun Friday night? Join families at The Homewood Early Learning Hub & Family Center for a night of fun-filled games and activities. \nParents and caregivers can explore ways to interact with their children to promote growth through play. This event is for enrolled families only. \nFor more information\, contact Nicole Banner at nicole@tryingtogether.org.
URL:https://tryingtogether.org/event/rise-together/2027-05-28/
CATEGORIES:The Homewood Early Learning Hub & Family Center
ATTACH;FMTTYPE=image/png:https://tryingtogether.org/wp-content/uploads/2019/09/Rise-Together.png
END:VEVENT
BEGIN:VEVENT
DTSTART;TZID=America/New_York:20270625T180000
DTEND;TZID=America/New_York:20270625T193000
DTSTAMP:20260420T144401
CREATED:20260413T151634Z
LAST-MODIFIED:20260413T151634Z
UID:10014109-1813946400-1813951800@tryingtogether.org
SUMMARY:Rise Together
DESCRIPTION:Need a family fun Friday night? Join families at The Homewood Early Learning Hub & Family Center for a night of fun-filled games and activities. \nParents and caregivers can explore ways to interact with their children to promote growth through play. This event is for enrolled families only. \nFor more information\, contact Nicole Banner at nicole@tryingtogether.org.
URL:https://tryingtogether.org/event/rise-together/2027-06-25/
CATEGORIES:The Homewood Early Learning Hub & Family Center
ATTACH;FMTTYPE=image/png:https://tryingtogether.org/wp-content/uploads/2019/09/Rise-Together.png
END:VEVENT
BEGIN:VEVENT
DTSTART;TZID=America/New_York:20270723T180000
DTEND;TZID=America/New_York:20270723T193000
DTSTAMP:20260420T144401
CREATED:20260413T151634Z
LAST-MODIFIED:20260413T151634Z
UID:10014110-1816365600-1816371000@tryingtogether.org
SUMMARY:Rise Together
DESCRIPTION:Need a family fun Friday night? Join families at The Homewood Early Learning Hub & Family Center for a night of fun-filled games and activities. \nParents and caregivers can explore ways to interact with their children to promote growth through play. This event is for enrolled families only. \nFor more information\, contact Nicole Banner at nicole@tryingtogether.org.
URL:https://tryingtogether.org/event/rise-together/2027-07-23/
CATEGORIES:The Homewood Early Learning Hub & Family Center
ATTACH;FMTTYPE=image/png:https://tryingtogether.org/wp-content/uploads/2019/09/Rise-Together.png
END:VEVENT
BEGIN:VEVENT
DTSTART;TZID=America/New_York:20270827T180000
DTEND;TZID=America/New_York:20270827T193000
DTSTAMP:20260420T144401
CREATED:20260413T151634Z
LAST-MODIFIED:20260413T151634Z
UID:10014111-1819389600-1819395000@tryingtogether.org
SUMMARY:Rise Together
DESCRIPTION:Need a family fun Friday night? Join families at The Homewood Early Learning Hub & Family Center for a night of fun-filled games and activities. \nParents and caregivers can explore ways to interact with their children to promote growth through play. This event is for enrolled families only. \nFor more information\, contact Nicole Banner at nicole@tryingtogether.org.
URL:https://tryingtogether.org/event/rise-together/2027-08-27/
CATEGORIES:The Homewood Early Learning Hub & Family Center
ATTACH;FMTTYPE=image/png:https://tryingtogether.org/wp-content/uploads/2019/09/Rise-Together.png
END:VEVENT
BEGIN:VEVENT
DTSTART;TZID=America/New_York:20270924T180000
DTEND;TZID=America/New_York:20270924T193000
DTSTAMP:20260420T144401
CREATED:20260413T151634Z
LAST-MODIFIED:20260413T151634Z
UID:10014112-1821808800-1821814200@tryingtogether.org
SUMMARY:Rise Together
DESCRIPTION:Need a family fun Friday night? Join families at The Homewood Early Learning Hub & Family Center for a night of fun-filled games and activities. \nParents and caregivers can explore ways to interact with their children to promote growth through play. This event is for enrolled families only. \nFor more information\, contact Nicole Banner at nicole@tryingtogether.org.
URL:https://tryingtogether.org/event/rise-together/2027-09-24/
CATEGORIES:The Homewood Early Learning Hub & Family Center
ATTACH;FMTTYPE=image/png:https://tryingtogether.org/wp-content/uploads/2019/09/Rise-Together.png
END:VEVENT
BEGIN:VEVENT
DTSTART;TZID=America/New_York:20271022T180000
DTEND;TZID=America/New_York:20271022T193000
DTSTAMP:20260420T144401
CREATED:20260413T151634Z
LAST-MODIFIED:20260413T151634Z
UID:10014113-1824228000-1824233400@tryingtogether.org
SUMMARY:Rise Together
DESCRIPTION:Need a family fun Friday night? Join families at The Homewood Early Learning Hub & Family Center for a night of fun-filled games and activities. \nParents and caregivers can explore ways to interact with their children to promote growth through play. This event is for enrolled families only. \nFor more information\, contact Nicole Banner at nicole@tryingtogether.org.
URL:https://tryingtogether.org/event/rise-together/2027-10-22/
CATEGORIES:The Homewood Early Learning Hub & Family Center
ATTACH;FMTTYPE=image/png:https://tryingtogether.org/wp-content/uploads/2019/09/Rise-Together.png
END:VEVENT
BEGIN:VEVENT
DTSTART;TZID=America/New_York:20271126T180000
DTEND;TZID=America/New_York:20271126T193000
DTSTAMP:20260420T144401
CREATED:20260413T151634Z
LAST-MODIFIED:20260413T151634Z
UID:10014114-1827252000-1827257400@tryingtogether.org
SUMMARY:Rise Together
DESCRIPTION:Need a family fun Friday night? Join families at The Homewood Early Learning Hub & Family Center for a night of fun-filled games and activities. \nParents and caregivers can explore ways to interact with their children to promote growth through play. This event is for enrolled families only. \nFor more information\, contact Nicole Banner at nicole@tryingtogether.org.
URL:https://tryingtogether.org/event/rise-together/2027-11-26/
CATEGORIES:The Homewood Early Learning Hub & Family Center
ATTACH;FMTTYPE=image/png:https://tryingtogether.org/wp-content/uploads/2019/09/Rise-Together.png
END:VEVENT
BEGIN:VEVENT
DTSTART;TZID=America/New_York:20271224T180000
DTEND;TZID=America/New_York:20271224T193000
DTSTAMP:20260420T144401
CREATED:20260413T151634Z
LAST-MODIFIED:20260413T151634Z
UID:10014115-1829671200-1829676600@tryingtogether.org
SUMMARY:Rise Together
DESCRIPTION:Need a family fun Friday night? Join families at The Homewood Early Learning Hub & Family Center for a night of fun-filled games and activities. \nParents and caregivers can explore ways to interact with their children to promote growth through play. This event is for enrolled families only. \nFor more information\, contact Nicole Banner at nicole@tryingtogether.org.
URL:https://tryingtogether.org/event/rise-together/2027-12-24/
CATEGORIES:The Homewood Early Learning Hub & Family Center
ATTACH;FMTTYPE=image/png:https://tryingtogether.org/wp-content/uploads/2019/09/Rise-Together.png
END:VEVENT
BEGIN:VEVENT
DTSTART;TZID=America/New_York:20280128T180000
DTEND;TZID=America/New_York:20280128T193000
DTSTAMP:20260420T144401
CREATED:20260413T151634Z
LAST-MODIFIED:20260413T151634Z
UID:10014116-1832695200-1832700600@tryingtogether.org
SUMMARY:Rise Together
DESCRIPTION:Need a family fun Friday night? Join families at The Homewood Early Learning Hub & Family Center for a night of fun-filled games and activities. \nParents and caregivers can explore ways to interact with their children to promote growth through play. This event is for enrolled families only. \nFor more information\, contact Nicole Banner at nicole@tryingtogether.org.
URL:https://tryingtogether.org/event/rise-together/2028-01-28/
CATEGORIES:The Homewood Early Learning Hub & Family Center
ATTACH;FMTTYPE=image/png:https://tryingtogether.org/wp-content/uploads/2019/09/Rise-Together.png
END:VEVENT
BEGIN:VEVENT
DTSTART;TZID=America/New_York:20280225T180000
DTEND;TZID=America/New_York:20280225T193000
DTSTAMP:20260420T144401
CREATED:20260413T151634Z
LAST-MODIFIED:20260413T151634Z
UID:10014117-1835114400-1835119800@tryingtogether.org
SUMMARY:Rise Together
DESCRIPTION:Need a family fun Friday night? Join families at The Homewood Early Learning Hub & Family Center for a night of fun-filled games and activities. \nParents and caregivers can explore ways to interact with their children to promote growth through play. This event is for enrolled families only. \nFor more information\, contact Nicole Banner at nicole@tryingtogether.org.
URL:https://tryingtogether.org/event/rise-together/2028-02-25/
CATEGORIES:The Homewood Early Learning Hub & Family Center
ATTACH;FMTTYPE=image/png:https://tryingtogether.org/wp-content/uploads/2019/09/Rise-Together.png
END:VEVENT
BEGIN:VEVENT
DTSTART;TZID=America/New_York:20280324T180000
DTEND;TZID=America/New_York:20280324T193000
DTSTAMP:20260420T144401
CREATED:20260413T151634Z
LAST-MODIFIED:20260413T151634Z
UID:10014118-1837533600-1837539000@tryingtogether.org
SUMMARY:Rise Together
DESCRIPTION:Need a family fun Friday night? Join families at The Homewood Early Learning Hub & Family Center for a night of fun-filled games and activities. \nParents and caregivers can explore ways to interact with their children to promote growth through play. This event is for enrolled families only. \nFor more information\, contact Nicole Banner at nicole@tryingtogether.org.
URL:https://tryingtogether.org/event/rise-together/2028-03-24/
CATEGORIES:The Homewood Early Learning Hub & Family Center
ATTACH;FMTTYPE=image/png:https://tryingtogether.org/wp-content/uploads/2019/09/Rise-Together.png
END:VEVENT
BEGIN:VEVENT
DTSTART;TZID=America/New_York:20280428T180000
DTEND;TZID=America/New_York:20280428T193000
DTSTAMP:20260420T144401
CREATED:20260413T151634Z
LAST-MODIFIED:20260413T151634Z
UID:10014119-1840557600-1840563000@tryingtogether.org
SUMMARY:Rise Together
DESCRIPTION:Need a family fun Friday night? Join families at The Homewood Early Learning Hub & Family Center for a night of fun-filled games and activities. \nParents and caregivers can explore ways to interact with their children to promote growth through play. This event is for enrolled families only. \nFor more information\, contact Nicole Banner at nicole@tryingtogether.org.
URL:https://tryingtogether.org/event/rise-together/2028-04-28/
CATEGORIES:The Homewood Early Learning Hub & Family Center
ATTACH;FMTTYPE=image/png:https://tryingtogether.org/wp-content/uploads/2019/09/Rise-Together.png
END:VEVENT
END:VCALENDAR