BEGIN:VCALENDAR
VERSION:2.0
PRODID:-//Trying Together - ECPv6.0.0.1//NONSGML v1.0//EN
CALSCALE:GREGORIAN
METHOD:PUBLISH
X-WR-CALNAME:Trying Together
X-ORIGINAL-URL:https://tryingtogether.org
X-WR-CALDESC:Events for Trying Together
REFRESH-INTERVAL;VALUE=DURATION:PT1H
X-Robots-Tag:noindex
X-PUBLISHED-TTL:PT1H
BEGIN:VTIMEZONE
TZID:America/New_York
BEGIN:DAYLIGHT
TZOFFSETFROM:-0500
TZOFFSETTO:-0400
TZNAME:EDT
DTSTART:20220313T070000
END:DAYLIGHT
BEGIN:STANDARD
TZOFFSETFROM:-0400
TZOFFSETTO:-0500
TZNAME:EST
DTSTART:20221106T060000
END:STANDARD
END:VTIMEZONE
BEGIN:VEVENT
DTSTART;TZID=America/New_York:20221004T180000
DTEND;TZID=America/New_York:20221004T193000
DTSTAMP:20221004T002454
CREATED:20200601T180021Z
LAST-MODIFIED:20200601T180021Z
UID:15800-1664906400-1664911800@tryingtogether.org
SUMMARY:Fathers Trying Together
DESCRIPTION:Are you a single father or caregiver? Would you like to build positive memories with your child and learn healthy ways to cope with barriers and stress? Join us for a group discussion. \nTo receive the event link\, please complete our online registration form. During registration\, you will be asked to select from a list of  session dates. Please select all session dates that you wish to attend. \nEvent Details\n\nFirst Tuesday of Every Month\n6 – 7:30 p.m.\n\nLocation\n\nThe Homewood Early Learning Hub & Family Center\n7219 Kelly Street\nPittsburgh\, PA 15208\n\nLearn More\nFor more information\, contact Neil Walker at 412.545.5172 or neil@tryingtogether.org. Learn more about the Homewood Early Learning Hub and Family Center on the Trying Together website. \n 
URL:https://tryingtogether.org/event/fathers-trying-together-virtual/2022-10-04/
ATTACH;FMTTYPE=image/jpeg:https://tryingtogether.org/wp-content/uploads/2020/01/RaisingReaders-BF039-e1578426753181.jpg
ORGANIZER;CN="Trying%20Together":MAILTO:info@tryingtogether.org
END:VEVENT
BEGIN:VEVENT
DTSTART;TZID=America/New_York:20221014T180000
DTEND;TZID=America/New_York:20221014T193000
DTSTAMP:20221004T002454
CREATED:20200601T183743Z
LAST-MODIFIED:20220420T174041Z
UID:14686-1665770400-1665775800@tryingtogether.org
SUMMARY:Women's Rap
DESCRIPTION:Are you a single mom or caregiver in need of self-care? Women’s Rap provides a safe place for communication\, encouragement\, and reflection. Join us for a group discussion to build your confidence\, gratitude\, and supportive relationships with other women. \nEvent Details\nSecond Friday of Every Month\n6 – 7:30 p.m. \nLocation\nThe Homewood Early Learning Hub & Family Center\n7219 Kelly Street\nPittsburgh\, PA 15208 \nLearn More\nFor more information\, contact Toni Beasley at 412.540.5732 or toni@tryingtogether.org. Learn more about the Homewood Early Learning Hub and Family Center on the Trying Together website. \nPlease share this flyer with your networks.
URL:https://tryingtogether.org/event/womens-rap-virtual-sessions/2022-10-14/
ATTACH;FMTTYPE=image/jpeg:https://tryingtogether.org/wp-content/uploads/2020/04/TryingTogetherSiteVisits-BF077.jpg
ORGANIZER;CN="Trying%20Together":MAILTO:info@tryingtogether.org
END:VEVENT
BEGIN:VEVENT
DTSTART;TZID=America/New_York:20221028T180000
DTEND;TZID=America/New_York:20221028T193000
DTSTAMP:20221004T002454
CREATED:20200601T190751Z
LAST-MODIFIED:20220914T164335Z
UID:14699-1666980000-1666985400@tryingtogether.org
SUMMARY:Family Fun Night!
DESCRIPTION:Need a family fun Friday night? Join families at the Homewood Early Learning Hub and Family Center for a night of fun-filled games and activities. Parents and caregivers can explore ways to interact with their children to promote growth through play. \nEvent Details\nFourth Friday of Every Month\n6 – 7:30 p.m. \nLocation\nThe Homewood Early Learning Hub & Family Center\n7219 Kelly Street\nPittsburgh\, PA 15208 \nLearn More\nFor more information\, contact Nicole Banner at 412.540.5970 or nicole@tryingtogether.org. Learn more about the Homewood Early Learning Hub and Family Center on the Trying Together website.
URL:https://tryingtogether.org/event/family-fun-nights/2022-10-28/
ATTACH;FMTTYPE=image/jpeg:https://tryingtogether.org/wp-content/uploads/2020/06/IMG951588-e1568062652989.jpeg
ORGANIZER;CN="Trying%20Together":MAILTO:info@tryingtogether.org
END:VEVENT
BEGIN:VEVENT
DTSTART;TZID=America/New_York:20221101T180000
DTEND;TZID=America/New_York:20221101T193000
DTSTAMP:20221004T002454
CREATED:20200601T180021Z
LAST-MODIFIED:20200601T180021Z
UID:15801-1667325600-1667331000@tryingtogether.org
SUMMARY:Fathers Trying Together
DESCRIPTION:Are you a single father or caregiver? Would you like to build positive memories with your child and learn healthy ways to cope with barriers and stress? Join us for a group discussion. \nTo receive the event link\, please complete our online registration form. During registration\, you will be asked to select from a list of  session dates. Please select all session dates that you wish to attend. \nEvent Details\n\nFirst Tuesday of Every Month\n6 – 7:30 p.m.\n\nLocation\n\nThe Homewood Early Learning Hub & Family Center\n7219 Kelly Street\nPittsburgh\, PA 15208\n\nLearn More\nFor more information\, contact Neil Walker at 412.545.5172 or neil@tryingtogether.org. Learn more about the Homewood Early Learning Hub and Family Center on the Trying Together website. \n 
URL:https://tryingtogether.org/event/fathers-trying-together-virtual/2022-11-01/
ATTACH;FMTTYPE=image/jpeg:https://tryingtogether.org/wp-content/uploads/2020/01/RaisingReaders-BF039-e1578426753181.jpg
ORGANIZER;CN="Trying%20Together":MAILTO:info@tryingtogether.org
END:VEVENT
BEGIN:VEVENT
DTSTART;TZID=America/New_York:20221111T180000
DTEND;TZID=America/New_York:20221111T193000
DTSTAMP:20221004T002454
CREATED:20200601T183743Z
LAST-MODIFIED:20220420T174042Z
UID:14687-1668189600-1668195000@tryingtogether.org
SUMMARY:Women's Rap
DESCRIPTION:Are you a single mom or caregiver in need of self-care? Women’s Rap provides a safe place for communication\, encouragement\, and reflection. Join us for a group discussion to build your confidence\, gratitude\, and supportive relationships with other women. \nEvent Details\nSecond Friday of Every Month\n6 – 7:30 p.m. \nLocation\nThe Homewood Early Learning Hub & Family Center\n7219 Kelly Street\nPittsburgh\, PA 15208 \nLearn More\nFor more information\, contact Toni Beasley at 412.540.5732 or toni@tryingtogether.org. Learn more about the Homewood Early Learning Hub and Family Center on the Trying Together website. \nPlease share this flyer with your networks.
URL:https://tryingtogether.org/event/womens-rap-virtual-sessions/2022-11-11/
ATTACH;FMTTYPE=image/jpeg:https://tryingtogether.org/wp-content/uploads/2020/04/TryingTogetherSiteVisits-BF077.jpg
ORGANIZER;CN="Trying%20Together":MAILTO:info@tryingtogether.org
END:VEVENT
BEGIN:VEVENT
DTSTART;TZID=America/New_York:20221125T180000
DTEND;TZID=America/New_York:20221125T193000
DTSTAMP:20221004T002454
CREATED:20200601T190751Z
LAST-MODIFIED:20220914T164336Z
UID:14700-1669399200-1669404600@tryingtogether.org
SUMMARY:Family Fun Night!
DESCRIPTION:Need a family fun Friday night? Join families at the Homewood Early Learning Hub and Family Center for a night of fun-filled games and activities. Parents and caregivers can explore ways to interact with their children to promote growth through play. \nEvent Details\nFourth Friday of Every Month\n6 – 7:30 p.m. \nLocation\nThe Homewood Early Learning Hub & Family Center\n7219 Kelly Street\nPittsburgh\, PA 15208 \nLearn More\nFor more information\, contact Nicole Banner at 412.540.5970 or nicole@tryingtogether.org. Learn more about the Homewood Early Learning Hub and Family Center on the Trying Together website.
URL:https://tryingtogether.org/event/family-fun-nights/2022-11-25/
ATTACH;FMTTYPE=image/jpeg:https://tryingtogether.org/wp-content/uploads/2020/06/IMG951588-e1568062652989.jpeg
ORGANIZER;CN="Trying%20Together":MAILTO:info@tryingtogether.org
END:VEVENT
BEGIN:VEVENT
DTSTART;TZID=America/New_York:20221206T180000
DTEND;TZID=America/New_York:20221206T193000
DTSTAMP:20221004T002454
CREATED:20200601T180021Z
LAST-MODIFIED:20200601T180021Z
UID:15802-1670349600-1670355000@tryingtogether.org
SUMMARY:Fathers Trying Together
DESCRIPTION:Are you a single father or caregiver? Would you like to build positive memories with your child and learn healthy ways to cope with barriers and stress? Join us for a group discussion. \nTo receive the event link\, please complete our online registration form. During registration\, you will be asked to select from a list of  session dates. Please select all session dates that you wish to attend. \nEvent Details\n\nFirst Tuesday of Every Month\n6 – 7:30 p.m.\n\nLocation\n\nThe Homewood Early Learning Hub & Family Center\n7219 Kelly Street\nPittsburgh\, PA 15208\n\nLearn More\nFor more information\, contact Neil Walker at 412.545.5172 or neil@tryingtogether.org. Learn more about the Homewood Early Learning Hub and Family Center on the Trying Together website. \n 
URL:https://tryingtogether.org/event/fathers-trying-together-virtual/2022-12-06/
ATTACH;FMTTYPE=image/jpeg:https://tryingtogether.org/wp-content/uploads/2020/01/RaisingReaders-BF039-e1578426753181.jpg
ORGANIZER;CN="Trying%20Together":MAILTO:info@tryingtogether.org
END:VEVENT
BEGIN:VEVENT
DTSTART;TZID=America/New_York:20221209T180000
DTEND;TZID=America/New_York:20221209T193000
DTSTAMP:20221004T002454
CREATED:20200601T183743Z
LAST-MODIFIED:20220420T174043Z
UID:14688-1670608800-1670614200@tryingtogether.org
SUMMARY:Women's Rap
DESCRIPTION:Are you a single mom or caregiver in need of self-care? Women’s Rap provides a safe place for communication\, encouragement\, and reflection. Join us for a group discussion to build your confidence\, gratitude\, and supportive relationships with other women. \nEvent Details\nSecond Friday of Every Month\n6 – 7:30 p.m. \nLocation\nThe Homewood Early Learning Hub & Family Center\n7219 Kelly Street\nPittsburgh\, PA 15208 \nLearn More\nFor more information\, contact Toni Beasley at 412.540.5732 or toni@tryingtogether.org. Learn more about the Homewood Early Learning Hub and Family Center on the Trying Together website. \nPlease share this flyer with your networks.
URL:https://tryingtogether.org/event/womens-rap-virtual-sessions/2022-12-09/
ATTACH;FMTTYPE=image/jpeg:https://tryingtogether.org/wp-content/uploads/2020/04/TryingTogetherSiteVisits-BF077.jpg
ORGANIZER;CN="Trying%20Together":MAILTO:info@tryingtogether.org
END:VEVENT
BEGIN:VEVENT
DTSTART;TZID=America/New_York:20221223T180000
DTEND;TZID=America/New_York:20221223T193000
DTSTAMP:20221004T002454
CREATED:20200601T190751Z
LAST-MODIFIED:20220914T164338Z
UID:14701-1671818400-1671823800@tryingtogether.org
SUMMARY:Family Fun Night!
DESCRIPTION:Need a family fun Friday night? Join families at the Homewood Early Learning Hub and Family Center for a night of fun-filled games and activities. Parents and caregivers can explore ways to interact with their children to promote growth through play. \nEvent Details\nFourth Friday of Every Month\n6 – 7:30 p.m. \nLocation\nThe Homewood Early Learning Hub & Family Center\n7219 Kelly Street\nPittsburgh\, PA 15208 \nLearn More\nFor more information\, contact Nicole Banner at 412.540.5970 or nicole@tryingtogether.org. Learn more about the Homewood Early Learning Hub and Family Center on the Trying Together website.
URL:https://tryingtogether.org/event/family-fun-nights/2022-12-23/
ATTACH;FMTTYPE=image/jpeg:https://tryingtogether.org/wp-content/uploads/2020/06/IMG951588-e1568062652989.jpeg
ORGANIZER;CN="Trying%20Together":MAILTO:info@tryingtogether.org
END:VEVENT
END:VCALENDAR