BEGIN:VCALENDAR
VERSION:2.0
PRODID:-//Trying Together - ECPv6.0.0.1//NONSGML v1.0//EN
CALSCALE:GREGORIAN
METHOD:PUBLISH
X-WR-CALNAME:Trying Together
X-ORIGINAL-URL:https://tryingtogether.org
X-WR-CALDESC:Events for Trying Together
REFRESH-INTERVAL;VALUE=DURATION:PT1H
X-Robots-Tag:noindex
X-PUBLISHED-TTL:PT1H
BEGIN:VTIMEZONE
TZID:America/New_York
BEGIN:DAYLIGHT
TZOFFSETFROM:-0500
TZOFFSETTO:-0400
TZNAME:EDT
DTSTART:20200308T070000
END:DAYLIGHT
BEGIN:STANDARD
TZOFFSETFROM:-0400
TZOFFSETTO:-0500
TZNAME:EST
DTSTART:20201101T060000
END:STANDARD
BEGIN:DAYLIGHT
TZOFFSETFROM:-0500
TZOFFSETTO:-0400
TZNAME:EDT
DTSTART:20210314T070000
END:DAYLIGHT
BEGIN:STANDARD
TZOFFSETFROM:-0400
TZOFFSETTO:-0500
TZNAME:EST
DTSTART:20211107T060000
END:STANDARD
END:VTIMEZONE
BEGIN:VEVENT
DTSTART;TZID=America/New_York:20211026T180000
DTEND;TZID=America/New_York:20211026T190000
DTSTAMP:20221003T190908
CREATED:20210929T161604Z
LAST-MODIFIED:20210929T161604Z
UID:14377-1635271200-1635274800@tryingtogether.org
SUMMARY:Using Digital Media Resources with Early Learners
DESCRIPTION:Join Carnegie Library of Pittsburgh on October 26\, 2021\, for a virtual professional development event\, “Using Digital Media Resources with Early Learners.” Individuals may register online. \nAdditional Information\nUnderstand information on how to incorporate technology into existing practices or curriculum. With intentional use and guidance\, technology can improve cognitive\, social and literacy outcomes for children. This presentation will share current research and suggestions for best practices from childhood experts while sharing suggested activities and apps designed best for joint media engagement. \nThis virtual workshop will be hosted on Zoom. Attendees will receive 1 hour of PQAS credit.
URL:https://tryingtogether.org/event/using-digital-media-resources-with-early-learners/
CATEGORIES:Course
ATTACH;FMTTYPE=image/png:https://tryingtogether.org/wp-content/uploads/2019/03/homepage_ipad1.png
END:VEVENT
BEGIN:VEVENT
DTSTART;TZID=America/New_York:20210603T180000
DTEND;TZID=America/New_York:20210603T200000
DTSTAMP:20221003T190908
CREATED:20210526T184440Z
LAST-MODIFIED:20210526T184609Z
UID:13590-1622743200-1622750400@tryingtogether.org
SUMMARY:Sensory Strategies for Early Learners
DESCRIPTION:Join the Carnegie Library of Pittsburgh to learn about the most common developmental delays in children\, aged birth through five years.\n\n\nThis session will share strategies for supporting children with developmental delays. Presenters will identify activities\, strategies\, and Library resources that can generate positive sensory experiences for all young children. This virtual workshop will be hosted on Zoom. Attendees will receive 2 hours of PQAS credit. \nRegister on the Carnegie Library of Pittsburgh website.
URL:https://tryingtogether.org/event/sensory-strategies-for-early-learners/
CATEGORIES:Course
ATTACH;FMTTYPE=image/jpeg:https://tryingtogether.org/wp-content/uploads/2021/02/RedBalloonComePlay-BF002.jpg
END:VEVENT
BEGIN:VEVENT
DTSTART;TZID=America/New_York:20201216T130000
DTEND;TZID=America/New_York:20201216T150000
DTSTAMP:20221003T190908
CREATED:20201201T145430Z
LAST-MODIFIED:20201201T145430Z
UID:11970-1608123600-1608130800@tryingtogether.org
SUMMARY:Fishing for a Positive Work Environment
DESCRIPTION:Are you interested in learning how to create a positive work environment? Join Trying Together on Wednesday\, December 16 for our online course\, “FISH philosophy: Fishing for a positive work environment!” \nAbout\nDuring this course\, Leadership Development Strategist Allison Robinson will discuss the four principles of the FISH philosophy and assist participants in considering how each principle can become daily practice. These four concepts will help participants create and maintain a working environment that is energizing\, fun\, and that allows each member of the team to feel important. \nSession Details\n\n\n\nSession Date: Wednesday\, December 16  |  1 – 3 p.m.\nInstructor: Allison Robinson\nCKC: Professional and Leadership\nCDA Subject Area: Maintaining Professionalism\nRegistration Deadline: Monday\, December 14\, 2020\n\n\n\nRegistration\nTo register\, visit the PD Registry page. Space is limited. Participants will receive the course Zoom link via email within 24 hours before the start date for the course. PQAS credit is available. \nIf you do not have a PD Registry account\, please complete this online form to create one. If you are unable to create an account\, please contact pdregistry@pakeys.org for more information. \nMore Information\nFor questions or more information\, please contact Jasmine Davis at jasmine@tryingtogether.org.
URL:https://tryingtogether.org/event/positive-work-environment/
CATEGORIES:Course
ATTACH;FMTTYPE=image/jpeg:https://tryingtogether.org/wp-content/uploads/2020/10/membership845x600.jpg
ORGANIZER;CN="Trying%20Together":MAILTO:info@tryingtogether.org
END:VEVENT
END:VCALENDAR