BEGIN:VCALENDAR
VERSION:2.0
PRODID:-//Trying Together - ECPv6.15.20//NONSGML v1.0//EN
CALSCALE:GREGORIAN
METHOD:PUBLISH
X-WR-CALNAME:Trying Together
X-ORIGINAL-URL:https://tryingtogether.org
X-WR-CALDESC:Events for Trying Together
REFRESH-INTERVAL;VALUE=DURATION:PT1H
X-Robots-Tag:noindex
X-PUBLISHED-TTL:PT1H
BEGIN:VTIMEZONE
TZID:UTC
BEGIN:STANDARD
TZOFFSETFROM:+0000
TZOFFSETTO:+0000
TZNAME:UTC
DTSTART:20180101T000000
END:STANDARD
END:VTIMEZONE
BEGIN:VEVENT
DTSTART;TZID=UTC:20190426T100000
DTEND;TZID=UTC:20190426T120000
DTSTAMP:20260420T063536
CREATED:20190321T172603Z
LAST-MODIFIED:20190406T001219Z
UID:10009933-1556272800-1556280000@tryingtogether.org
SUMMARY:Animal Architects: Using Nature's Builders to Teach STEAM
DESCRIPTION:About\nWhat is an architect and how can animals be architects without using pencils\, computers\, and blueprints? This hands-on workshop will explore how cross-curricular topics such as ecology and environmental science can be used to teach math and engineering. Participants will discover how the expertise of animal architects such as spiders\, beavers and birds can be utilized in an early childhood classroom to teach STEAM concepts.  \nThis workshop will be presented by Julie Travaglini from Allegheny Land Trust.  \nRegistration\nTo learn more and register\, visit their event page. \nTweetSharePinShare0 Shares
URL:https://tryingtogether.org/event/animal-architects-steam/
LOCATION:Colab 18\, 100 S. Commons St\, Suite 100\, Pittsburgh\, PA\, 15212\, United States
ATTACH;FMTTYPE=image/jpeg:https://tryingtogether.org/wp-content/uploads/2019/03/dove-flying.jpg
GEO:40.4511937;-80.0047559
X-APPLE-STRUCTURED-LOCATION;VALUE=URI;X-ADDRESS=Colab 18 100 S. Commons St Suite 100 Pittsburgh PA 15212 United States;X-APPLE-RADIUS=500;X-TITLE=100 S. Commons St\, Suite 100:geo:-80.0047559,40.4511937
END:VEVENT
END:VCALENDAR