BEGIN:VCALENDAR
VERSION:2.0
PRODID:-//Trying Together - ECPv6.15.20//NONSGML v1.0//EN
CALSCALE:GREGORIAN
METHOD:PUBLISH
X-ORIGINAL-URL:https://tryingtogether.org
X-WR-CALDESC:Events for Trying Together
REFRESH-INTERVAL;VALUE=DURATION:PT1H
X-Robots-Tag:noindex
X-PUBLISHED-TTL:PT1H
BEGIN:VTIMEZONE
TZID:America/New_York
BEGIN:DAYLIGHT
TZOFFSETFROM:-0500
TZOFFSETTO:-0400
TZNAME:EDT
DTSTART:20190310T070000
END:DAYLIGHT
BEGIN:STANDARD
TZOFFSETFROM:-0400
TZOFFSETTO:-0500
TZNAME:EST
DTSTART:20191103T060000
END:STANDARD
BEGIN:DAYLIGHT
TZOFFSETFROM:-0500
TZOFFSETTO:-0400
TZNAME:EDT
DTSTART:20200308T070000
END:DAYLIGHT
BEGIN:STANDARD
TZOFFSETFROM:-0400
TZOFFSETTO:-0500
TZNAME:EST
DTSTART:20201101T060000
END:STANDARD
BEGIN:DAYLIGHT
TZOFFSETFROM:-0500
TZOFFSETTO:-0400
TZNAME:EDT
DTSTART:20210314T070000
END:DAYLIGHT
BEGIN:STANDARD
TZOFFSETFROM:-0400
TZOFFSETTO:-0500
TZNAME:EST
DTSTART:20211107T060000
END:STANDARD
END:VTIMEZONE
BEGIN:VEVENT
DTSTART;TZID=America/New_York:20200811T183000
DTEND;TZID=America/New_York:20200811T200000
DTSTAMP:20260423T220535
CREATED:20200731T135637Z
LAST-MODIFIED:20200731T135637Z
UID:10010485-1597170600-1597176000@tryingtogether.org
SUMMARY:Virtual Job Fair (Child Care)
DESCRIPTION:Are you interested in making a difference in the lives of young children? Join the Homewood Child Care Alliance on August 8 and August 11 for their Virtual Job Fair! \nAbout\nThe Homewood Child Care Alliance (HCCA) includes individual child care programs (family\, group\, and center). Many of the programs\, located in Homewood and its surrounding areas\, are seeking applicants for early care and education positions that work Monday through Friday in various shifts between the hours of 6 a.m. and 6 p.m. \nRegistration\nInterviews are open on Saturday\, August 8 from 10 a.m. to 12 p.m. and Tuesday\, August 11 from 6:30 to 8 p.m. Schedule your interview by registering today! All registrations must be submitted by August 5 at 9 a.m. \nMore Information\nFor more information or for assistance\, please call 724.333.5213. \nShare this flyer with your network. \nTweetSharePinShare0 Shares
URL:https://tryingtogether.org/event/virtual-job-fair-child-care/2020-08-11/
ATTACH;FMTTYPE=image/jpeg:https://tryingtogether.org/wp-content/uploads/2020/07/RaisingReaders-BF025.jpg
END:VEVENT
BEGIN:VEVENT
DTSTART;TZID=America/New_York:20200808T100000
DTEND;TZID=America/New_York:20200808T120000
DTSTAMP:20260423T220535
CREATED:20200731T135637Z
LAST-MODIFIED:20200731T135637Z
UID:10010484-1596880800-1596888000@tryingtogether.org
SUMMARY:Virtual Job Fair (Child Care)
DESCRIPTION:Are you interested in making a difference in the lives of young children? Join the Homewood Child Care Alliance on August 8 and August 11 for their Virtual Job Fair! \nAbout\nThe Homewood Child Care Alliance (HCCA) includes individual child care programs (family\, group\, and center). Many of the programs\, located in Homewood and its surrounding areas\, are seeking applicants for early care and education positions that work Monday through Friday in various shifts between the hours of 6 a.m. and 6 p.m. \nRegistration\nInterviews are open on Saturday\, August 8 from 10 a.m. to 12 p.m. and Tuesday\, August 11 from 6:30 to 8 p.m. Schedule your interview by registering today! All registrations must be submitted by August 5 at 9 a.m. \nMore Information\nFor more information or for assistance\, please call 724.333.5213. \nShare this flyer with your network. \nTweetSharePinShare0 Shares
URL:https://tryingtogether.org/event/virtual-job-fair-child-care/2020-08-08/
ATTACH;FMTTYPE=image/jpeg:https://tryingtogether.org/wp-content/uploads/2020/07/RaisingReaders-BF025.jpg
END:VEVENT
END:VCALENDAR