BEGIN:VCALENDAR
VERSION:2.0
PRODID:-//Trying Together - ECPv6.15.20//NONSGML v1.0//EN
CALSCALE:GREGORIAN
METHOD:PUBLISH
X-ORIGINAL-URL:https://tryingtogether.org
X-WR-CALDESC:Events for Trying Together
REFRESH-INTERVAL;VALUE=DURATION:PT1H
X-Robots-Tag:noindex
X-PUBLISHED-TTL:PT1H
BEGIN:VTIMEZONE
TZID:America/New_York
BEGIN:DAYLIGHT
TZOFFSETFROM:-0500
TZOFFSETTO:-0400
TZNAME:EDT
DTSTART:20220313T070000
END:DAYLIGHT
BEGIN:STANDARD
TZOFFSETFROM:-0400
TZOFFSETTO:-0500
TZNAME:EST
DTSTART:20221106T060000
END:STANDARD
BEGIN:DAYLIGHT
TZOFFSETFROM:-0500
TZOFFSETTO:-0400
TZNAME:EDT
DTSTART:20230312T070000
END:DAYLIGHT
BEGIN:STANDARD
TZOFFSETFROM:-0400
TZOFFSETTO:-0500
TZNAME:EST
DTSTART:20231105T060000
END:STANDARD
BEGIN:DAYLIGHT
TZOFFSETFROM:-0500
TZOFFSETTO:-0400
TZNAME:EDT
DTSTART:20240310T070000
END:DAYLIGHT
BEGIN:STANDARD
TZOFFSETFROM:-0400
TZOFFSETTO:-0500
TZNAME:EST
DTSTART:20241103T060000
END:STANDARD
END:VTIMEZONE
BEGIN:VEVENT
DTSTART;TZID=America/New_York:20230322T120000
DTEND;TZID=America/New_York:20230322T130000
DTSTAMP:20260425T235948
CREATED:20230310T173426Z
LAST-MODIFIED:20230310T173426Z
UID:10012845-1679486400-1679490000@tryingtogether.org
SUMMARY:"Unlocking the How" in Building Effective Family-School Partnerships
DESCRIPTION:Join Kidsburgh at this webinar to learn about family engagement strategies and Learning Heroes‘ “Unlocking the How” research. \nLearning Heroes’ Senior Vice President and “Unlocking the How” Researcher\, Dr. Eyal Bergman\, will guide attendees through the research and discuss family engagement\, effective program practice\, and strategy planning for schools and families. \nAll Parents as Allies cohort members\, along with community members and other school members\, are invited to join this free session. \nSession Details\nWednesday\, March 22 | 12 – 1 p.m. \nVirtual via Zoom \nRegister \nLearn More\nTo learn more\, visit the Kidsburgh website. \nTweetSharePinShare0 Shares
URL:https://tryingtogether.org/event/unlocking-the-how-in-building-effective-family-school-partnerships/
ATTACH;FMTTYPE=image/jpeg:https://tryingtogether.org/wp-content/uploads/2021/09/BrightBeginnings-BF065.jpg
END:VEVENT
END:VCALENDAR