BEGIN:VCALENDAR
VERSION:2.0
PRODID:-//Trying Together - ECPv6.15.20//NONSGML v1.0//EN
CALSCALE:GREGORIAN
METHOD:PUBLISH
X-ORIGINAL-URL:https://tryingtogether.org
X-WR-CALDESC:Events for Trying Together
REFRESH-INTERVAL;VALUE=DURATION:PT1H
X-Robots-Tag:noindex
X-PUBLISHED-TTL:PT1H
BEGIN:VTIMEZONE
TZID:UTC
BEGIN:STANDARD
TZOFFSETFROM:+0000
TZOFFSETTO:+0000
TZNAME:UTC
DTSTART:20170101T000000
END:STANDARD
END:VTIMEZONE
BEGIN:VEVENT
DTSTART;TZID=UTC:20181103T080000
DTEND;TZID=UTC:20181103T150000
DTSTAMP:20260420T110338
CREATED:20181002T232843Z
LAST-MODIFIED:20181027T010416Z
UID:10010255-1541232000-1541257200@tryingtogether.org
SUMMARY:UnConference: Destination Moon
DESCRIPTION:Trying Together is proud to partner with the Senator John Heinz History Center for this UnConference! To commemorate the upcoming 50th anniversary of the mission\, the Heinz History Center is partnering with the Smithsonian to host “Destination Moon: The Apollo 11 Mission”\, an epic exhibition created by the Smithsonian Institution Traveling Exhibition Service (SITES) and presented in Pittsburgh by UPMC. \nOn Saturday\, November 3\, 2018 from 8:00 a.m. – 3:00 p.m.\, we will begin our day with an in-depth exploration of the Apollo 11 mission\, the birth of the American space program\, and the space race with Director of Education Mariruth Leftwich and Smithsonian Air and Space Museum Early Learning specialist Ann Caspari. It’s a once-in-a-lifetime chance to see a national treasure in Pittsburgh – the Command Module Columbia. \nThen\, Ms. Caspari and Ms. Leftwich will lead us through interactive\, hands-on STEAM exercises related to the exhibit that can easily translate into an early childhood classroom. The afternoon features STEAM oriented workshops by local organizations. \nRegistration is now closed. Please email Yu-Ling at conference@tryingtogether.org for more information. \nThe UnConference series is made possible by: \n \nTweetSharePinShare0 Shares
URL:https://tryingtogether.org/event/unconference-destination-moon/
LOCATION:Senator John Heinz History Center\, 1212 Smallman Street\, Pittsburgh\, PA\, 15222\, United States
ATTACH;FMTTYPE=image/jpeg:https://tryingtogether.org/wp-content/uploads/2018/10/moon-walk-60616_1920-e1538508050786.jpg
ORGANIZER;CN="Trying Together%3A UnConference":MAILTO:conference@tryingtogether.org
GEO:40.4467453;-79.9921306
X-APPLE-STRUCTURED-LOCATION;VALUE=URI;X-ADDRESS=Senator John Heinz History Center 1212 Smallman Street Pittsburgh PA 15222 United States;X-APPLE-RADIUS=500;X-TITLE=1212 Smallman Street:geo:-79.9921306,40.4467453
END:VEVENT
BEGIN:VEVENT
DTSTART;TZID=UTC:20180927T170000
DTEND;TZID=UTC:20180927T190000
DTSTAMP:20260420T110338
CREATED:20180814T233301Z
LAST-MODIFIED:20180927T210229Z
UID:10010020-1538067600-1538074800@tryingtogether.org
SUMMARY:P.R.I.D.E. Speaker Series - Reimagining Early Childhood: Being Intentional About Race and Young Children
DESCRIPTION:This event is currently sold out. \nJoin Trying Together for an evening of engaging dialogue on Thursday\, September 27 from 5:00 – 7:00 p.m. at The Frick Art and Historical Center. \nThe P.R.I.D.E. Program Speaker Series will welcome Dr. Erin N. Winkler\, professor of African & African Diaspora Studies and Urban Studies at the University of Wisconsin-Milwaukee\, to discuss how adults can be intentional in discussing race with young children. \nP.R.I.D.E. Speaker Series Event Schedule: \n\n5:00 – 5:30 p.m. Networking and Registration\n5:30 – 7:00 p.m. Keynote by Dr. Erin Winkler\, followed by Q&A\n\nPlease contact UnConference Director Yu-Ling Cheng at conference@tryingtogether.org or call 412-421-3889. \nAbout Dr. Erin Winkler \nErin N. Winkler is associate professor of African & African Diaspora Studies and Urban Studies at the University of Wisconsin-Milwaukee. She earned her Ph.D. in African American Studies at the University of California-Berkeley and was a postdoctoral fellow in African American Studies at Northwestern University. She is author of the book\, Learning Race\, Learning Place: Shaping Racial Identities and Ideas in African American Childhoods. She has recently consulted for the new Smithsonian National Museum of African American History and Culture\, working to train museum staff to have productive conversations about race and racism with visitors of all ages and backgrounds (2016)\, and serving as an instructor in the Museum’s week-long workshop for K-12 teachers\, “Let’s Talk: Teaching Race in the Classroom” (2017). \nAbout P.R.I.D.E. \nThe P.R.I.D.E. Program is part of the University of Pittsburgh Office of Child Development within the School of Education. At P.R.I.D.E. our focus is on helping young Black children\, aged 3 to 8\, develop a positive racial identity. Studies have shown that when children are socialized to embrace their race\, ethnicity\, and heritage\, it can lead to numerous positive outcomes. This event is part of the P.R.I.D.E. Speaker Series\, which invites parents\, caregivers\, educators\, and the community at-large to learn about and engage in discussions about race\, education\, and young children. P.R.I.D.E is part of the University of Pittsburgh Office of Child Development within the School of Education. \nThank you to our Sponsors and Partners \nA huge thank you to our: co-hosts\, P.R.I.D.E.\, Trying Together and Frick Art and Historical Center\, UnConference series sponsor PNC Grow Up Great and sponsors Office of Child Development and Early Learning (OCDEL)*\, W.K. Kellogg Foundation and Hillman Family Foundation! \n*Funding for this conference was made possible (in part) by the Pennsylvania Office of Child Development and Early Learning (OCDEL). The views expressed in written conference materials or publications and by speakers and moderators do not necessarily reflect the official policies of OCDEL; nor does mention by trade names\, commercial practice or organization imply endorsement by the Commonwealth. \n \n  \n \n  \n  \n \n  \n  \n \n  \n  \nTweetSharePinShare0 Shares
URL:https://tryingtogether.org/event/p-r-i-d-e-speaker-series-reimagining-early-childhood-being-intentional-about-race-and-young-children/
LOCATION:The Frick Art and Historical Center\, 7227 Reynolds Street\, Pittsburgh\, PA\, 15208\, United States
ATTACH;FMTTYPE=image/jpeg:https://tryingtogether.org/wp-content/uploads/2018/08/Winkler_Speaker_Header-e1534275063554.jpg
ORGANIZER;CN="Trying Together%3A UnConference":MAILTO:conference@tryingtogether.org
GEO:40.446587;-79.902277
X-APPLE-STRUCTURED-LOCATION;VALUE=URI;X-ADDRESS=The Frick Art and Historical Center 7227 Reynolds Street Pittsburgh PA 15208 United States;X-APPLE-RADIUS=500;X-TITLE=7227 Reynolds Street:geo:-79.902277,40.446587
END:VEVENT
END:VCALENDAR