BEGIN:VCALENDAR
VERSION:2.0
PRODID:-//Trying Together - ECPv6.15.20//NONSGML v1.0//EN
CALSCALE:GREGORIAN
METHOD:PUBLISH
X-WR-CALNAME:Trying Together
X-ORIGINAL-URL:https://tryingtogether.org
X-WR-CALDESC:Events for Trying Together
REFRESH-INTERVAL;VALUE=DURATION:PT1H
X-Robots-Tag:noindex
X-PUBLISHED-TTL:PT1H
BEGIN:VTIMEZONE
TZID:UTC
BEGIN:STANDARD
TZOFFSETFROM:+0000
TZOFFSETTO:+0000
TZNAME:UTC
DTSTART:20180101T000000
END:STANDARD
END:VTIMEZONE
BEGIN:VEVENT
DTSTART;TZID=UTC:20190606T083000
DTEND;TZID=UTC:20190606T160000
DTSTAMP:20260425T113613
CREATED:20190509T213450Z
LAST-MODIFIED:20190509T213450Z
UID:10010552-1559809800-1559836800@tryingtogether.org
SUMMARY:Day of "SELF" Discovery Conference
DESCRIPTION:The Day of “SELF” Discovery Conference is held each year to celebrate individuals who are involved in their own personal Recovery Journey! \nAbout\nThis Conference serves as a way to learn tools to help promote Recovery\, learn about available resources and services\, share experiences related to personal recovery journeys\, as well as a time to network and renew friendships made in previous years at the Conference.  Ultimately\, this Conference is held each year to celebrate the infinite possibilities that lie within each of us! The 19th annual Day of “Self” Discovery Conference\, “Caravan To Wellness: Just For The Health Of It!” will focus on knowledge and awareness to improve the overall mental and physical wellness of conference attendees. \nIn addition to some very stimulating workshops and presentations\, the conference includes continental breakfast\, lunch\, raffles\, and prizes as a part of the day’s activities.  The Joyce King “EveryDay People” Award will be highlighted during the lunch break.  Joyce King believed strongly that people who receive behavioral health and/or addiction services should have a voice in their treatment and that their voices must be heard!  The conference will also include a Recovery Panel Presentation. \nRegistration\nFor the registration form\, agenda\, and more information\, see the event PDF.  \nRegistrations must be submitted before May 30\, 2019\, via mail or fax. \nTweetSharePinShare0 Shares
URL:https://tryingtogether.org/event/day-self-discovery-conference/
LOCATION:Rodef Shalom Synagogue\, 4905 Fifth Avenue\, Pittsburgh\, PA\, 15213\, United States
CATEGORIES:Conference
ATTACH;FMTTYPE=image/jpeg:https://tryingtogether.org/wp-content/uploads/2018/01/resources845x600.jpg
GEO:40.4479845;-79.9434692
X-APPLE-STRUCTURED-LOCATION;VALUE=URI;X-ADDRESS=Rodef Shalom Synagogue 4905 Fifth Avenue Pittsburgh PA 15213 United States;X-APPLE-RADIUS=500;X-TITLE=4905 Fifth Avenue:geo:-79.9434692,40.4479845
END:VEVENT
END:VCALENDAR