BEGIN:VCALENDAR
VERSION:2.0
PRODID:-//Trying Together - ECPv6.15.20//NONSGML v1.0//EN
CALSCALE:GREGORIAN
METHOD:PUBLISH
X-WR-CALNAME:Trying Together
X-ORIGINAL-URL:https://tryingtogether.org
X-WR-CALDESC:Events for Trying Together
REFRESH-INTERVAL;VALUE=DURATION:PT1H
X-Robots-Tag:noindex
X-PUBLISHED-TTL:PT1H
BEGIN:VTIMEZONE
TZID:America/New_York
BEGIN:DAYLIGHT
TZOFFSETFROM:-0500
TZOFFSETTO:-0400
TZNAME:EDT
DTSTART:20200308T070000
END:DAYLIGHT
BEGIN:STANDARD
TZOFFSETFROM:-0400
TZOFFSETTO:-0500
TZNAME:EST
DTSTART:20201101T060000
END:STANDARD
BEGIN:DAYLIGHT
TZOFFSETFROM:-0500
TZOFFSETTO:-0400
TZNAME:EDT
DTSTART:20210314T070000
END:DAYLIGHT
BEGIN:STANDARD
TZOFFSETFROM:-0400
TZOFFSETTO:-0500
TZNAME:EST
DTSTART:20211107T060000
END:STANDARD
BEGIN:DAYLIGHT
TZOFFSETFROM:-0500
TZOFFSETTO:-0400
TZNAME:EDT
DTSTART:20220313T070000
END:DAYLIGHT
BEGIN:STANDARD
TZOFFSETFROM:-0400
TZOFFSETTO:-0500
TZNAME:EST
DTSTART:20221106T060000
END:STANDARD
END:VTIMEZONE
BEGIN:VEVENT
DTSTART;TZID=America/New_York:20210317T160000
DTEND;TZID=America/New_York:20210317T180000
DTSTAMP:20260422T222002
CREATED:20210305T190621Z
LAST-MODIFIED:20210305T190621Z
UID:10011541-1615996800-1616004000@tryingtogether.org
SUMMARY:Empowered Educators: Black Futures
DESCRIPTION:Join the Carnegie Museum of Art\, Center for Urban Education\, Western Pennsylvania Writing Project\, and Remake Learning on March 17 for their event “Black Futures: Empowered Educators.” \nAbout\nThe Empowered Educators Series provides a forum for teachers\, educators\, administrators\, counselors\, and the like to think critically and openly discuss topics of race\, equity\, bias\, and pedagogy. The Series promotes ongoing learning\, partnerships with supporting organizations\, and community building among teachers. \nIn this online session\, participants will enjoy a spoken word performance; knowledge transfer to explain the historical differences and intersections of “Black Futures\,” “Afrofuturism\,” and “Freedom Dreaming;” and a remix of a card game to dram possible futures of liberation. \nRegistration\nTo register\, complete the online registration form. A Zoom link will be shared on the day of the session. \nTweetSharePinShare0 Shares
URL:https://tryingtogether.org/event/black-futures/
CATEGORIES:Course
ATTACH;FMTTYPE=image/jpeg:https://tryingtogether.org/wp-content/uploads/2020/11/RaisingReaders-BF050.jpg
END:VEVENT
END:VCALENDAR