BEGIN:VCALENDAR
VERSION:2.0
PRODID:-//Trying Together - ECPv6.15.20//NONSGML v1.0//EN
CALSCALE:GREGORIAN
METHOD:PUBLISH
X-WR-CALNAME:Trying Together
X-ORIGINAL-URL:https://tryingtogether.org
X-WR-CALDESC:Events for Trying Together
REFRESH-INTERVAL;VALUE=DURATION:PT1H
X-Robots-Tag:noindex
X-PUBLISHED-TTL:PT1H
BEGIN:VTIMEZONE
TZID:UTC
BEGIN:STANDARD
TZOFFSETFROM:+0000
TZOFFSETTO:+0000
TZNAME:UTC
DTSTART:20170101T000000
END:STANDARD
END:VTIMEZONE
BEGIN:VEVENT
DTSTART;TZID=UTC:20181030T103000
DTEND;TZID=UTC:20181030T113000
DTSTAMP:20260423T065726
CREATED:20180921T011100Z
LAST-MODIFIED:20180921T011100Z
UID:10010193-1540895400-1540899000@tryingtogether.org
SUMMARY:Carnegie Library of Pittsburgh: Family PlayShop
DESCRIPTION:Laugh\, play\, discover\, and explore with the Carnegie Library of Pittsburgh: Family PlayShop. This program gives children the opportunity to learn and grow through play. \nEach week\, the library will have an expert on-hand\, such as a speech-language therapist\, nutritionist\, and more to chat and play. You can ask questions\, and get information on raising happy and healthy children. \nShare this flyer with your networks.  \nTweetSharePinShare0 Shares
URL:https://tryingtogether.org/event/carnegie-library-of-pittsburgh-family-playshop-12/2018-10-30/
LOCATION:CLP – Southside\, 2205 E. Carson St\, Pittsburgh\, PA\, 15203\, United States
ATTACH;FMTTYPE=image/jpeg:https://tryingtogether.org/wp-content/uploads/2018/03/RedBalloonComePlay-BF070-1-e1521137248259.jpg
GEO:40.4287109;-79.9742162
X-APPLE-STRUCTURED-LOCATION;VALUE=URI;X-ADDRESS=CLP – Southside 2205 E. Carson St Pittsburgh PA 15203 United States;X-APPLE-RADIUS=500;X-TITLE=2205 E. Carson St:geo:-79.9742162,40.4287109
END:VEVENT
BEGIN:VEVENT
DTSTART;TZID=UTC:20181023T103000
DTEND;TZID=UTC:20181023T113000
DTSTAMP:20260423T065726
CREATED:20180921T011100Z
LAST-MODIFIED:20180921T011100Z
UID:10010192-1540290600-1540294200@tryingtogether.org
SUMMARY:Carnegie Library of Pittsburgh: Family PlayShop
DESCRIPTION:Laugh\, play\, discover\, and explore with the Carnegie Library of Pittsburgh: Family PlayShop. This program gives children the opportunity to learn and grow through play. \nEach week\, the library will have an expert on-hand\, such as a speech-language therapist\, nutritionist\, and more to chat and play. You can ask questions\, and get information on raising happy and healthy children. \nShare this flyer with your networks.  \nTweetSharePinShare0 Shares
URL:https://tryingtogether.org/event/carnegie-library-of-pittsburgh-family-playshop-12/2018-10-23/
LOCATION:CLP – Southside\, 2205 E. Carson St\, Pittsburgh\, PA\, 15203\, United States
ATTACH;FMTTYPE=image/jpeg:https://tryingtogether.org/wp-content/uploads/2018/03/RedBalloonComePlay-BF070-1-e1521137248259.jpg
GEO:40.4287109;-79.9742162
X-APPLE-STRUCTURED-LOCATION;VALUE=URI;X-ADDRESS=CLP – Southside 2205 E. Carson St Pittsburgh PA 15203 United States;X-APPLE-RADIUS=500;X-TITLE=2205 E. Carson St:geo:-79.9742162,40.4287109
END:VEVENT
BEGIN:VEVENT
DTSTART;TZID=UTC:20181016T103000
DTEND;TZID=UTC:20181016T113000
DTSTAMP:20260423T065726
CREATED:20180921T011100Z
LAST-MODIFIED:20180921T011100Z
UID:10010191-1539685800-1539689400@tryingtogether.org
SUMMARY:Carnegie Library of Pittsburgh: Family PlayShop
DESCRIPTION:Laugh\, play\, discover\, and explore with the Carnegie Library of Pittsburgh: Family PlayShop. This program gives children the opportunity to learn and grow through play. \nEach week\, the library will have an expert on-hand\, such as a speech-language therapist\, nutritionist\, and more to chat and play. You can ask questions\, and get information on raising happy and healthy children. \nShare this flyer with your networks.  \nTweetSharePinShare0 Shares
URL:https://tryingtogether.org/event/carnegie-library-of-pittsburgh-family-playshop-12/2018-10-16/
LOCATION:CLP – Southside\, 2205 E. Carson St\, Pittsburgh\, PA\, 15203\, United States
ATTACH;FMTTYPE=image/jpeg:https://tryingtogether.org/wp-content/uploads/2018/03/RedBalloonComePlay-BF070-1-e1521137248259.jpg
GEO:40.4287109;-79.9742162
X-APPLE-STRUCTURED-LOCATION;VALUE=URI;X-ADDRESS=CLP – Southside 2205 E. Carson St Pittsburgh PA 15203 United States;X-APPLE-RADIUS=500;X-TITLE=2205 E. Carson St:geo:-79.9742162,40.4287109
END:VEVENT
BEGIN:VEVENT
DTSTART;TZID=UTC:20181009T103000
DTEND;TZID=UTC:20181009T113000
DTSTAMP:20260423T065726
CREATED:20180921T011100Z
LAST-MODIFIED:20180921T011100Z
UID:10010190-1539081000-1539084600@tryingtogether.org
SUMMARY:Carnegie Library of Pittsburgh: Family PlayShop
DESCRIPTION:Laugh\, play\, discover\, and explore with the Carnegie Library of Pittsburgh: Family PlayShop. This program gives children the opportunity to learn and grow through play. \nEach week\, the library will have an expert on-hand\, such as a speech-language therapist\, nutritionist\, and more to chat and play. You can ask questions\, and get information on raising happy and healthy children. \nShare this flyer with your networks.  \nTweetSharePinShare0 Shares
URL:https://tryingtogether.org/event/carnegie-library-of-pittsburgh-family-playshop-12/2018-10-09/
LOCATION:CLP – Southside\, 2205 E. Carson St\, Pittsburgh\, PA\, 15203\, United States
ATTACH;FMTTYPE=image/jpeg:https://tryingtogether.org/wp-content/uploads/2018/03/RedBalloonComePlay-BF070-1-e1521137248259.jpg
GEO:40.4287109;-79.9742162
X-APPLE-STRUCTURED-LOCATION;VALUE=URI;X-ADDRESS=CLP – Southside 2205 E. Carson St Pittsburgh PA 15203 United States;X-APPLE-RADIUS=500;X-TITLE=2205 E. Carson St:geo:-79.9742162,40.4287109
END:VEVENT
BEGIN:VEVENT
DTSTART;TZID=UTC:20181002T103000
DTEND;TZID=UTC:20181002T113000
DTSTAMP:20260423T065726
CREATED:20180921T011100Z
LAST-MODIFIED:20180921T011100Z
UID:10010189-1538476200-1538479800@tryingtogether.org
SUMMARY:Carnegie Library of Pittsburgh: Family PlayShop
DESCRIPTION:Laugh\, play\, discover\, and explore with the Carnegie Library of Pittsburgh: Family PlayShop. This program gives children the opportunity to learn and grow through play. \nEach week\, the library will have an expert on-hand\, such as a speech-language therapist\, nutritionist\, and more to chat and play. You can ask questions\, and get information on raising happy and healthy children. \nShare this flyer with your networks.  \nTweetSharePinShare0 Shares
URL:https://tryingtogether.org/event/carnegie-library-of-pittsburgh-family-playshop-12/2018-10-02/
LOCATION:CLP – Southside\, 2205 E. Carson St\, Pittsburgh\, PA\, 15203\, United States
ATTACH;FMTTYPE=image/jpeg:https://tryingtogether.org/wp-content/uploads/2018/03/RedBalloonComePlay-BF070-1-e1521137248259.jpg
GEO:40.4287109;-79.9742162
X-APPLE-STRUCTURED-LOCATION;VALUE=URI;X-ADDRESS=CLP – Southside 2205 E. Carson St Pittsburgh PA 15203 United States;X-APPLE-RADIUS=500;X-TITLE=2205 E. Carson St:geo:-79.9742162,40.4287109
END:VEVENT
END:VCALENDAR