BEGIN:VCALENDAR
VERSION:2.0
PRODID:-//Trying Together - ECPv6.0.0.1//NONSGML v1.0//EN
CALSCALE:GREGORIAN
METHOD:PUBLISH
X-WR-CALNAME:Trying Together
X-ORIGINAL-URL:https://tryingtogether.org
X-WR-CALDESC:Events for Trying Together
REFRESH-INTERVAL;VALUE=DURATION:PT1H
X-Robots-Tag:noindex
X-PUBLISHED-TTL:PT1H
BEGIN:VTIMEZONE
TZID:UTC
BEGIN:STANDARD
TZOFFSETFROM:+0000
TZOFFSETTO:+0000
TZNAME:UTC
DTSTART:20180101T000000
END:STANDARD
END:VTIMEZONE
BEGIN:VEVENT
DTSTART;TZID=UTC:20180517T080000
DTEND;TZID=UTC:20180517T093000
DTSTAMP:20221004T213224
CREATED:20180410T193540Z
LAST-MODIFIED:20180410T193540Z
UID:1994-1526544000-1526549400@tryingtogether.org
SUMMARY:Remake Learning Days Kickoff Breakfast
DESCRIPTION:Celebrate the opening of Remake Learning Days with Intel and the Society for Science & the Public with a kickoff breakfast. Experience future-ready\, hands-on\, relevant and engaging educational opportunities and programs for youth\, families\, caregivers\, and educators throughout southwestern Pennsylvania and West Virginia. \nEnjoy a unique experience with light breakfast foods\, remarks\, and amazing learning opportunities. \nAbout Intel ISEF:\nThe Intel International Science and Engineering Fair (Intel ISEF) is a program of the Society for Science & the Public\, which is the world’s largest international pre-college science competition. Breakfast includes a tour of the Intel ISEF Public Day\, showcasing the work of approximately 1\,800 student finalists from around the world conducting groundbreaking research in 22 STEM fields. \nRegister by April 30\, 2018! Registration is limited. \nTweetSharePinShare0 Shares
URL:https://tryingtogether.org/event/remake-learning-days-kickoff-breakfast/
LOCATION:David L. Lawrence Convention Center\, 1000 Fort Duquesne Blvd\, Pittsburgh\, PA\, 15222\, United States
ATTACH;FMTTYPE=image/jpeg:https://tryingtogether.org/wp-content/uploads/2018/03/BrightBeginnings-BF102.jpg
GEO:40.445593;-79.9965431
X-APPLE-STRUCTURED-LOCATION;VALUE=URI;X-ADDRESS=David L. Lawrence Convention Center 1000 Fort Duquesne Blvd Pittsburgh PA 15222 United States;X-APPLE-RADIUS=500;X-TITLE=1000 Fort Duquesne Blvd:geo:-79.9965431,40.445593
END:VEVENT
END:VCALENDAR