BEGIN:VCALENDAR
VERSION:2.0
PRODID:-//Trying Together - ECPv6.15.20//NONSGML v1.0//EN
CALSCALE:GREGORIAN
METHOD:PUBLISH
X-WR-CALNAME:Trying Together
X-ORIGINAL-URL:https://tryingtogether.org
X-WR-CALDESC:Events for Trying Together
REFRESH-INTERVAL;VALUE=DURATION:PT1H
X-Robots-Tag:noindex
X-PUBLISHED-TTL:PT1H
BEGIN:VTIMEZONE
TZID:UTC
BEGIN:STANDARD
TZOFFSETFROM:+0000
TZOFFSETTO:+0000
TZNAME:UTC
DTSTART:20180101T000000
END:STANDARD
END:VTIMEZONE
BEGIN:VEVENT
DTSTART;TZID=UTC:20190727T060000
DTEND;TZID=UTC:20190727T180000
DTSTAMP:20260423T070050
CREATED:20190702T191733Z
LAST-MODIFIED:20190702T192312Z
UID:10010655-1564207200-1564250400@tryingtogether.org
SUMMARY:Free Dental Clinic: Mission of Mercy
DESCRIPTION:Mission of Mercy Pittsburgh is providing free dental clinic services on a first-come\, first served basis on July 26 and 27th\, with doors opening at 6 a.m. \nAbout\nIf you\, a loved one\, or a friend are in need of free dental care\, Mission of Mercy Pittsburgh (MOMPGH) is here to help! MOMPGH provides free dental services\, with a limit of one dental procedure per patient per day\, on a first-come\, first serve basis until capacity is reached. \nThe clinic doesn’t require specific eligibility or income requirements and is open to children (ages 2 to 17) and adults. If a child is present (anyone under 18)\, there must be a guardian available to watch the child at all times\, meaning if one adult is receiving a procedure\, another must be present to watch the child. Child care is not provided. \nPre-registration is not required\, but it is recommended to arrive early. Participants must enter through the PPG Paints Arena Highmark Gate\, located next to the Epiphany Catholic Church on Centre Avenue. \nServices Provided\nThe free dental clinic provides: \n\ncleanings\,\nfillings\nroot canal treatments on selective teeth\,\nextractions\,\noral hygiene instruction\, and\na limited number of temporary partial dental appliances.\n\nTransportation\nShuttle services will be provided for patients\, with two routes available. The circuit for each route will on the hour\, from 6 a.m. to 6 p.m. The last shuttle will depart PPG Paints Arena at 6 p.m. \nRoute A\n\nStation Square T Station\nCarson Towers (2117 East Carson Street)\nHillman Library (2960 Forbes Avenue)\nVA Pittsburgh Hospital – University Center\nJubilee Kitchen (2005 Wyandotte Street)\nPPG Paints Arena (1001 Fifth Avenue)\n\nRoute B\n\nSaint Stanislaus Church (57 21st Street)\nGiant Eagle on North Side (318-320 Cedar Avenue)\nGreyhound Station (55 11th Street)\nMarket Square\nPPG Paints Arean (1001 Fifth Avenue)\n\nClick here to view the map. \nLearn More\nTo learn more about available services\, what to expect\, and more\, visit the MOMPGH page. \nFor questions\, email info@MOMpgh.org. \nTweetSharePinShare0 Shares
URL:https://tryingtogether.org/event/free-dental-clinic-2019/2019-07-27/
LOCATION:PPG Paints Arena – Highmark Gate\, 1001 5th Avenue\, Pittsburgh\, PA\, 15219\, United States
ATTACH;FMTTYPE=image/jpeg:https://tryingtogether.org/wp-content/uploads/2019/07/dentist-428646_1920.jpg
ORGANIZER;CN="Mission of Mercy Pittsburgh":MAILTO:info@MOMpgh.org
GEO:40.4393097;-79.9895529
X-APPLE-STRUCTURED-LOCATION;VALUE=URI;X-ADDRESS=PPG Paints Arena – Highmark Gate 1001 5th Avenue Pittsburgh PA 15219 United States;X-APPLE-RADIUS=500;X-TITLE=1001 5th Avenue:geo:-79.9895529,40.4393097
END:VEVENT
BEGIN:VEVENT
DTSTART;TZID=UTC:20190726T060000
DTEND;TZID=UTC:20190726T180000
DTSTAMP:20260423T070050
CREATED:20190702T191733Z
LAST-MODIFIED:20190702T192312Z
UID:10010654-1564120800-1564164000@tryingtogether.org
SUMMARY:Free Dental Clinic: Mission of Mercy
DESCRIPTION:Mission of Mercy Pittsburgh is providing free dental clinic services on a first-come\, first served basis on July 26 and 27th\, with doors opening at 6 a.m. \nAbout\nIf you\, a loved one\, or a friend are in need of free dental care\, Mission of Mercy Pittsburgh (MOMPGH) is here to help! MOMPGH provides free dental services\, with a limit of one dental procedure per patient per day\, on a first-come\, first serve basis until capacity is reached. \nThe clinic doesn’t require specific eligibility or income requirements and is open to children (ages 2 to 17) and adults. If a child is present (anyone under 18)\, there must be a guardian available to watch the child at all times\, meaning if one adult is receiving a procedure\, another must be present to watch the child. Child care is not provided. \nPre-registration is not required\, but it is recommended to arrive early. Participants must enter through the PPG Paints Arena Highmark Gate\, located next to the Epiphany Catholic Church on Centre Avenue. \nServices Provided\nThe free dental clinic provides: \n\ncleanings\,\nfillings\nroot canal treatments on selective teeth\,\nextractions\,\noral hygiene instruction\, and\na limited number of temporary partial dental appliances.\n\nTransportation\nShuttle services will be provided for patients\, with two routes available. The circuit for each route will on the hour\, from 6 a.m. to 6 p.m. The last shuttle will depart PPG Paints Arena at 6 p.m. \nRoute A\n\nStation Square T Station\nCarson Towers (2117 East Carson Street)\nHillman Library (2960 Forbes Avenue)\nVA Pittsburgh Hospital – University Center\nJubilee Kitchen (2005 Wyandotte Street)\nPPG Paints Arena (1001 Fifth Avenue)\n\nRoute B\n\nSaint Stanislaus Church (57 21st Street)\nGiant Eagle on North Side (318-320 Cedar Avenue)\nGreyhound Station (55 11th Street)\nMarket Square\nPPG Paints Arean (1001 Fifth Avenue)\n\nClick here to view the map. \nLearn More\nTo learn more about available services\, what to expect\, and more\, visit the MOMPGH page. \nFor questions\, email info@MOMpgh.org. \nTweetSharePinShare0 Shares
URL:https://tryingtogether.org/event/free-dental-clinic-2019/2019-07-26/
LOCATION:PPG Paints Arena – Highmark Gate\, 1001 5th Avenue\, Pittsburgh\, PA\, 15219\, United States
ATTACH;FMTTYPE=image/jpeg:https://tryingtogether.org/wp-content/uploads/2019/07/dentist-428646_1920.jpg
ORGANIZER;CN="Mission of Mercy Pittsburgh":MAILTO:info@MOMpgh.org
GEO:40.4393097;-79.9895529
X-APPLE-STRUCTURED-LOCATION;VALUE=URI;X-ADDRESS=PPG Paints Arena – Highmark Gate 1001 5th Avenue Pittsburgh PA 15219 United States;X-APPLE-RADIUS=500;X-TITLE=1001 5th Avenue:geo:-79.9895529,40.4393097
END:VEVENT
END:VCALENDAR