BEGIN:VCALENDAR
VERSION:2.0
PRODID:-//Trying Together - ECPv6.15.20//NONSGML v1.0//EN
CALSCALE:GREGORIAN
METHOD:PUBLISH
X-WR-CALNAME:Trying Together
X-ORIGINAL-URL:https://tryingtogether.org
X-WR-CALDESC:Events for Trying Together
REFRESH-INTERVAL;VALUE=DURATION:PT1H
X-Robots-Tag:noindex
X-PUBLISHED-TTL:PT1H
BEGIN:VTIMEZONE
TZID:UTC
BEGIN:STANDARD
TZOFFSETFROM:+0000
TZOFFSETTO:+0000
TZNAME:UTC
DTSTART:20170101T000000
END:STANDARD
END:VTIMEZONE
BEGIN:VEVENT
DTSTART;TZID=UTC:20180615T090000
DTEND;TZID=UTC:20180615T120000
DTSTAMP:20260420T105417
CREATED:20180605T205934Z
LAST-MODIFIED:20180613T011405Z
UID:10009559-1529053200-1529064000@tryingtogether.org
SUMMARY:Rex Arts Free Broadway Camp
DESCRIPTION:Get your start on Broadway with an exciting musical theatre camp! Vocal\, acting\, and dance lessons will be enhanced by fun theatre games and activities. This camp features musical selections from The Wizard of Oz.  \nOn the last day\, family and friends are invited to watch a special performance of “Munchkinland”\, “Ding Dong The Witch Is Dead”\, “The Lullaby League”\, “We’re Off To See The Wizard”\, “If I Only Had A Brain”\, “The Merry Old Land Of Oz”\, and “Over The Rainbow” from a medley arranged by Greg Gilpin – Alfred Publishing Co.\, Inc. \nThis camp is designed for kids who love to perform\, and for kids who would like to try it out! \nTweetSharePinShare0 Shares
URL:https://tryingtogether.org/event/rex-arts-free-broadway-camp/2018-06-15/
LOCATION:Ryan Arts Center\, 420 Chartiers Ave\, McKees Rocks\, PA\, 15136\, United States
ATTACH;FMTTYPE=image/jpeg:https://tryingtogether.org/wp-content/uploads/2018/06/UltimatePlayDay-052018-BF016-2-e1528217545766.jpg
GEO:40.464962;-80.0583164
X-APPLE-STRUCTURED-LOCATION;VALUE=URI;X-ADDRESS=Ryan Arts Center 420 Chartiers Ave McKees Rocks PA 15136 United States;X-APPLE-RADIUS=500;X-TITLE=420 Chartiers Ave:geo:-80.0583164,40.464962
END:VEVENT
BEGIN:VEVENT
DTSTART;TZID=UTC:20180614T090000
DTEND;TZID=UTC:20180614T120000
DTSTAMP:20260420T105417
CREATED:20180605T205934Z
LAST-MODIFIED:20180613T011405Z
UID:10009558-1528966800-1528977600@tryingtogether.org
SUMMARY:Rex Arts Free Broadway Camp
DESCRIPTION:Get your start on Broadway with an exciting musical theatre camp! Vocal\, acting\, and dance lessons will be enhanced by fun theatre games and activities. This camp features musical selections from The Wizard of Oz.  \nOn the last day\, family and friends are invited to watch a special performance of “Munchkinland”\, “Ding Dong The Witch Is Dead”\, “The Lullaby League”\, “We’re Off To See The Wizard”\, “If I Only Had A Brain”\, “The Merry Old Land Of Oz”\, and “Over The Rainbow” from a medley arranged by Greg Gilpin – Alfred Publishing Co.\, Inc. \nThis camp is designed for kids who love to perform\, and for kids who would like to try it out! \nTweetSharePinShare0 Shares
URL:https://tryingtogether.org/event/rex-arts-free-broadway-camp/2018-06-14/
LOCATION:Ryan Arts Center\, 420 Chartiers Ave\, McKees Rocks\, PA\, 15136\, United States
ATTACH;FMTTYPE=image/jpeg:https://tryingtogether.org/wp-content/uploads/2018/06/UltimatePlayDay-052018-BF016-2-e1528217545766.jpg
GEO:40.464962;-80.0583164
X-APPLE-STRUCTURED-LOCATION;VALUE=URI;X-ADDRESS=Ryan Arts Center 420 Chartiers Ave McKees Rocks PA 15136 United States;X-APPLE-RADIUS=500;X-TITLE=420 Chartiers Ave:geo:-80.0583164,40.464962
END:VEVENT
BEGIN:VEVENT
DTSTART;TZID=UTC:20180613T090000
DTEND;TZID=UTC:20180613T120000
DTSTAMP:20260420T105417
CREATED:20180605T205934Z
LAST-MODIFIED:20180613T011405Z
UID:10009557-1528880400-1528891200@tryingtogether.org
SUMMARY:Rex Arts Free Broadway Camp
DESCRIPTION:Get your start on Broadway with an exciting musical theatre camp! Vocal\, acting\, and dance lessons will be enhanced by fun theatre games and activities. This camp features musical selections from The Wizard of Oz.  \nOn the last day\, family and friends are invited to watch a special performance of “Munchkinland”\, “Ding Dong The Witch Is Dead”\, “The Lullaby League”\, “We’re Off To See The Wizard”\, “If I Only Had A Brain”\, “The Merry Old Land Of Oz”\, and “Over The Rainbow” from a medley arranged by Greg Gilpin – Alfred Publishing Co.\, Inc. \nThis camp is designed for kids who love to perform\, and for kids who would like to try it out! \nTweetSharePinShare0 Shares
URL:https://tryingtogether.org/event/rex-arts-free-broadway-camp/2018-06-13/
LOCATION:Ryan Arts Center\, 420 Chartiers Ave\, McKees Rocks\, PA\, 15136\, United States
ATTACH;FMTTYPE=image/jpeg:https://tryingtogether.org/wp-content/uploads/2018/06/UltimatePlayDay-052018-BF016-2-e1528217545766.jpg
GEO:40.464962;-80.0583164
X-APPLE-STRUCTURED-LOCATION;VALUE=URI;X-ADDRESS=Ryan Arts Center 420 Chartiers Ave McKees Rocks PA 15136 United States;X-APPLE-RADIUS=500;X-TITLE=420 Chartiers Ave:geo:-80.0583164,40.464962
END:VEVENT
BEGIN:VEVENT
DTSTART;TZID=UTC:20180612T090000
DTEND;TZID=UTC:20180612T120000
DTSTAMP:20260420T105417
CREATED:20180605T205934Z
LAST-MODIFIED:20180613T011405Z
UID:10009556-1528794000-1528804800@tryingtogether.org
SUMMARY:Rex Arts Free Broadway Camp
DESCRIPTION:Get your start on Broadway with an exciting musical theatre camp! Vocal\, acting\, and dance lessons will be enhanced by fun theatre games and activities. This camp features musical selections from The Wizard of Oz.  \nOn the last day\, family and friends are invited to watch a special performance of “Munchkinland”\, “Ding Dong The Witch Is Dead”\, “The Lullaby League”\, “We’re Off To See The Wizard”\, “If I Only Had A Brain”\, “The Merry Old Land Of Oz”\, and “Over The Rainbow” from a medley arranged by Greg Gilpin – Alfred Publishing Co.\, Inc. \nThis camp is designed for kids who love to perform\, and for kids who would like to try it out! \nTweetSharePinShare0 Shares
URL:https://tryingtogether.org/event/rex-arts-free-broadway-camp/2018-06-12/
LOCATION:Ryan Arts Center\, 420 Chartiers Ave\, McKees Rocks\, PA\, 15136\, United States
ATTACH;FMTTYPE=image/jpeg:https://tryingtogether.org/wp-content/uploads/2018/06/UltimatePlayDay-052018-BF016-2-e1528217545766.jpg
GEO:40.464962;-80.0583164
X-APPLE-STRUCTURED-LOCATION;VALUE=URI;X-ADDRESS=Ryan Arts Center 420 Chartiers Ave McKees Rocks PA 15136 United States;X-APPLE-RADIUS=500;X-TITLE=420 Chartiers Ave:geo:-80.0583164,40.464962
END:VEVENT
BEGIN:VEVENT
DTSTART;TZID=UTC:20180611T090000
DTEND;TZID=UTC:20180611T120000
DTSTAMP:20260420T105417
CREATED:20180605T205934Z
LAST-MODIFIED:20180613T011405Z
UID:10009555-1528707600-1528718400@tryingtogether.org
SUMMARY:Rex Arts Free Broadway Camp
DESCRIPTION:Get your start on Broadway with an exciting musical theatre camp! Vocal\, acting\, and dance lessons will be enhanced by fun theatre games and activities. This camp features musical selections from The Wizard of Oz.  \nOn the last day\, family and friends are invited to watch a special performance of “Munchkinland”\, “Ding Dong The Witch Is Dead”\, “The Lullaby League”\, “We’re Off To See The Wizard”\, “If I Only Had A Brain”\, “The Merry Old Land Of Oz”\, and “Over The Rainbow” from a medley arranged by Greg Gilpin – Alfred Publishing Co.\, Inc. \nThis camp is designed for kids who love to perform\, and for kids who would like to try it out! \nTweetSharePinShare0 Shares
URL:https://tryingtogether.org/event/rex-arts-free-broadway-camp/2018-06-11/
LOCATION:Ryan Arts Center\, 420 Chartiers Ave\, McKees Rocks\, PA\, 15136\, United States
ATTACH;FMTTYPE=image/jpeg:https://tryingtogether.org/wp-content/uploads/2018/06/UltimatePlayDay-052018-BF016-2-e1528217545766.jpg
GEO:40.464962;-80.0583164
X-APPLE-STRUCTURED-LOCATION;VALUE=URI;X-ADDRESS=Ryan Arts Center 420 Chartiers Ave McKees Rocks PA 15136 United States;X-APPLE-RADIUS=500;X-TITLE=420 Chartiers Ave:geo:-80.0583164,40.464962
END:VEVENT
END:VCALENDAR