BEGIN:VCALENDAR
VERSION:2.0
PRODID:-//Trying Together - ECPv6.15.20//NONSGML v1.0//EN
CALSCALE:GREGORIAN
METHOD:PUBLISH
X-WR-CALNAME:Trying Together
X-ORIGINAL-URL:https://tryingtogether.org
X-WR-CALDESC:Events for Trying Together
REFRESH-INTERVAL;VALUE=DURATION:PT1H
X-Robots-Tag:noindex
X-PUBLISHED-TTL:PT1H
BEGIN:VTIMEZONE
TZID:America/New_York
BEGIN:DAYLIGHT
TZOFFSETFROM:-0500
TZOFFSETTO:-0400
TZNAME:EDT
DTSTART:20220313T070000
END:DAYLIGHT
BEGIN:STANDARD
TZOFFSETFROM:-0400
TZOFFSETTO:-0500
TZNAME:EST
DTSTART:20221106T060000
END:STANDARD
BEGIN:DAYLIGHT
TZOFFSETFROM:-0500
TZOFFSETTO:-0400
TZNAME:EDT
DTSTART:20230312T070000
END:DAYLIGHT
BEGIN:STANDARD
TZOFFSETFROM:-0400
TZOFFSETTO:-0500
TZNAME:EST
DTSTART:20231105T060000
END:STANDARD
BEGIN:DAYLIGHT
TZOFFSETFROM:-0500
TZOFFSETTO:-0400
TZNAME:EDT
DTSTART:20240310T070000
END:DAYLIGHT
BEGIN:STANDARD
TZOFFSETFROM:-0400
TZOFFSETTO:-0500
TZNAME:EST
DTSTART:20241103T060000
END:STANDARD
END:VTIMEZONE
BEGIN:VEVENT
DTSTART;TZID=America/New_York:20231102T180000
DTEND;TZID=America/New_York:20231102T193000
DTSTAMP:20260420T143158
CREATED:20231006T184115Z
LAST-MODIFIED:20231031T170308Z
UID:10011562-1698948000-1698953400@tryingtogether.org
SUMMARY:Buzzword PLAN Family Fun Night
DESCRIPTION:Join Buzzword as they visit the SHIM South Hills Family Center to explore their latest buzzword\, PLAN\, through an evening of family fun and activities featuring science\, art\, music and early literacy! \nDuring this event\, children ages birth to five and their caregivers will engage with each other to create meaningful moments through interactive activities from their friends at the Carnegie Science Center and Pittsburgh Festival Opera. \nEach family will also get to take a BUZZ Box home with them! \nWhen: Thursday\, November 2\, 2023 | 6 – 7:30 p.m. \nWhere: South Hills Interfaith Movement (SHIM) South Hills Family Center\, 41 Macek Drive\, Pittsburgh\, Pa. 15227 \nDinner will be provided. Registration prior to the event is strongly encouraged. \nDue to reaching maximum capacity\, registration is currently CLOSED. \nFor more information or questions on the event\, contact Buzzword directly at buzzword@tryingtogether.org. \nBuzzword is made possible by PNC Grow Up Great® and The Allegheny County Department of Human Services. \nTweetSharePinShare0 Shares
URL:https://tryingtogether.org/event/buzzword-plan-family-fun-night-11-02/
LOCATION:South Hills Interfaith Movement (SHIM) South Hills Family Center\, South Hills Interfaith Movement (SHIM) South Hills Family Center\, 41 Macek Drive\, Pittsburgh\, PA\, 15227\, United States
ATTACH;FMTTYPE=image/jpeg:https://tryingtogether.org/wp-content/uploads/2023/10/230927-Buzzword-BF-12-scaled.jpg
ORGANIZER;CN="Buzzword PGH":MAILTO:buzzword@tryingtogether.org
GEO:40.3572096;-79.9633346
X-APPLE-STRUCTURED-LOCATION;VALUE=URI;X-ADDRESS=South Hills Interfaith Movement (SHIM) South Hills Family Center South Hills Interfaith Movement (SHIM) South Hills Family Center 41 Macek Drive Pittsburgh PA 15227 United States;X-APPLE-RADIUS=500;X-TITLE=South Hills Interfaith Movement (SHIM) South Hills Family Center\, 41 Macek Drive:geo:-79.9633346,40.3572096
END:VEVENT
END:VCALENDAR