BEGIN:VCALENDAR
VERSION:2.0
PRODID:-//Trying Together - ECPv6.15.20//NONSGML v1.0//EN
CALSCALE:GREGORIAN
METHOD:PUBLISH
X-ORIGINAL-URL:https://tryingtogether.org
X-WR-CALDESC:Events for Trying Together
REFRESH-INTERVAL;VALUE=DURATION:PT1H
X-Robots-Tag:noindex
X-PUBLISHED-TTL:PT1H
BEGIN:VTIMEZONE
TZID:UTC
BEGIN:STANDARD
TZOFFSETFROM:+0000
TZOFFSETTO:+0000
TZNAME:UTC
DTSTART:20180101T000000
END:STANDARD
END:VTIMEZONE
BEGIN:VEVENT
DTSTART;TZID=UTC:20190916T093000
DTEND;TZID=UTC:20190916T150000
DTSTAMP:20260425T093243
CREATED:20190822T211456Z
LAST-MODIFIED:20190822T211456Z
UID:10010113-1568626200-1568646000@tryingtogether.org
SUMMARY:Young Children Experiencing Homelessness Summit
DESCRIPTION:Congress approved provisions prioritizing children who experience homelessness to be served by Head Start\, the Child Care Development Fund\, and other high-quality early learning programs. On September 16\, professionals are invited to the “Young Children Experiencing Homelessness Summit: Educate. Collaborate. Inspire.” to explore these changes\, identify challenges\, and discuss the future. \nAbout\nThousands of young homeless children are in shelter or living doubled up in Pennsylvania\, in New Jersey\, and in Delaware. High-quality early learning programs like Head Start can strengthen their resilience\, but access is a challenge. Featuring keynote speaker Dr. Deborah Bergeron\, National Director of Head Start\, this Summit will explore what has happened since those changes\, identify local and national challenges\, and consider the role of intermediaries. \nRegistration\nTo attend the Summit\, complete the event registration webpage. \nLearn More\nTo learn more\, visit the event page. \nFor questions\, contact Joe Willard at 267.777.5851 or jwillard@pec-cares.org. \n*Information provided by the United Way of Greater Philadelphia and Southern New Jersey \nTweetSharePinShare0 Shares
URL:https://tryingtogether.org/event/homelessness-summit-young-children/
LOCATION:Temple University | Howard Gittis Student Center\, 1755 N 13th Street\, Philadelphia\, PA\, 19122\, United States
CATEGORIES:Conference
ATTACH;FMTTYPE=image/jpeg:https://tryingtogether.org/wp-content/uploads/2019/05/TT-Unconference2018-BF093-e1558371733714.jpg
ORGANIZER;CN="United Way of Greater Philadelphia and Southern New Jersey":MAILTO:jwillard@pec-cares.org
GEO:39.9790436;-75.1550992
X-APPLE-STRUCTURED-LOCATION;VALUE=URI;X-ADDRESS=Temple University | Howard Gittis Student Center 1755 N 13th Street Philadelphia PA 19122 United States;X-APPLE-RADIUS=500;X-TITLE=1755 N 13th Street:geo:-75.1550992,39.9790436
END:VEVENT
END:VCALENDAR