BEGIN:VCALENDAR
VERSION:2.0
PRODID:-//Trying Together - ECPv6.15.20//NONSGML v1.0//EN
CALSCALE:GREGORIAN
METHOD:PUBLISH
X-WR-CALNAME:Trying Together
X-ORIGINAL-URL:https://tryingtogether.org
X-WR-CALDESC:Events for Trying Together
REFRESH-INTERVAL;VALUE=DURATION:PT1H
X-Robots-Tag:noindex
X-PUBLISHED-TTL:PT1H
BEGIN:VTIMEZONE
TZID:UTC
BEGIN:STANDARD
TZOFFSETFROM:+0000
TZOFFSETTO:+0000
TZNAME:UTC
DTSTART:20180101T000000
END:STANDARD
END:VTIMEZONE
BEGIN:VEVENT
DTSTART;TZID=UTC:20191210T180000
DTEND;TZID=UTC:20191210T210000
DTSTAMP:20260419T091630
CREATED:20191019T165427Z
LAST-MODIFIED:20191019T165427Z
UID:10010909-1576000800-1576011600@tryingtogether.org
SUMMARY:Using Ages and Stages Questionnaires as a Screening Tool
DESCRIPTION:Are you interested in learning how to use Ages and Stages Questionnaires®\, including Ages and Stages Questionnaires: Social-Emotional\, as a screening tool for children ages three months to five years old? \nJoin Trying Together for a three-hour professional growth session that provides information on how to administer\, score\, and share the results of the screener with families. The session will include resources for making referrals to additional services. \nThis course will be instructed by Carlow University’s Coordinator of Undergraduate Education Programs\, Pamela Zimmerman. PQAS and Act 48 hours available. \nMore Information\nFor questions\, contact Jasmine Davis at 412.567.3933 or jasmine@tryingtogether.org. \nShare this flyer with your network. \nRegistration\nTo register\, complete the course below. \n \nTweetSharePinShare0 Shares
URL:https://tryingtogether.org/event/ages-stages-course/
LOCATION:Trying Together | Training Room 5604\, 5604 Solway Street\, Pittsburgh\, PA\, 15217\, United States
CATEGORIES:Course
ATTACH;FMTTYPE=image/jpeg:https://tryingtogether.org/wp-content/uploads/2019/10/BJC_0469-e1571489398860.jpg
ORGANIZER;CN="Trying Together":MAILTO:info@tryingtogether.org
GEO:40.4426852;-79.9266587
X-APPLE-STRUCTURED-LOCATION;VALUE=URI;X-ADDRESS=Trying Together | Training Room 5604 5604 Solway Street Pittsburgh PA 15217 United States;X-APPLE-RADIUS=500;X-TITLE=5604 Solway Street:geo:-79.9266587,40.4426852
END:VEVENT
END:VCALENDAR